BEGIN:VCALENDAR
VERSION:2.0
PRODID:-//SpacePolicyOnline.com - ECPv6.15.11//NONSGML v1.0//EN
CALSCALE:GREGORIAN
METHOD:PUBLISH
X-WR-CALNAME:SpacePolicyOnline.com
X-ORIGINAL-URL:https://spacepolicyonline.com
X-WR-CALDESC:Events for SpacePolicyOnline.com
REFRESH-INTERVAL;VALUE=DURATION:PT1H
X-Robots-Tag:noindex
X-PUBLISHED-TTL:PT1H
BEGIN:VTIMEZONE
TZID:America/New_York
BEGIN:DAYLIGHT
TZOFFSETFROM:-0500
TZOFFSETTO:-0400
TZNAME:EDT
DTSTART:20200308T070000
END:DAYLIGHT
BEGIN:STANDARD
TZOFFSETFROM:-0400
TZOFFSETTO:-0500
TZNAME:EST
DTSTART:20201101T060000
END:STANDARD
BEGIN:DAYLIGHT
TZOFFSETFROM:-0500
TZOFFSETTO:-0400
TZNAME:EDT
DTSTART:20210314T070000
END:DAYLIGHT
BEGIN:STANDARD
TZOFFSETFROM:-0400
TZOFFSETTO:-0500
TZNAME:EST
DTSTART:20211107T060000
END:STANDARD
BEGIN:DAYLIGHT
TZOFFSETFROM:-0500
TZOFFSETTO:-0400
TZNAME:EDT
DTSTART:20220313T070000
END:DAYLIGHT
BEGIN:STANDARD
TZOFFSETFROM:-0400
TZOFFSETTO:-0500
TZNAME:EST
DTSTART:20221106T060000
END:STANDARD
END:VTIMEZONE
BEGIN:VEVENT
DTSTART;TZID=America/New_York:20210514T190000
DTEND;TZID=America/New_York:20210514T230000
DTSTAMP:20260420T124858
CREATED:20210513T171242Z
LAST-MODIFIED:20210514T193152Z
UID:43981-1621018800-1621033200@spacepolicyonline.com
SUMMARY:LANDING OF CHINA'S ZHURONG MARS ROVER\, May 14\, 2021\, ~7:11 pm ET
DESCRIPTION:Update\, May 14:  The China National Space Administration now acknowledges that it will try today. \n\nCNSA has today acknowledged that it will attempt to land the Zhurong rover on Mars between May 15-19 Beijing time. Thanks to amateur radio enthusiasts we know the first attempt window will be ~23:10 UTC/7:10 pm ET today. https://t.co/HFklaX3bui (English: https://t.co/HFklaX3bui) pic.twitter.com/VdBgkZMctd \n— Andrew Jones (@AJ_FI) May 14\, 2021 \n \nThis is no indication as to whether live coverage will be provided or when the world will know if it was successful. \n  \nOriginal Entry: China’s Zhurong lander/rover will separate from the Tianwen-1 spacecraft on May 14\, 2021 and land on Mars at 2311 UTC (7:11 pm EDT) according to unofficial reports. \nChina itself had not made an announcement as of May 13. \nTianwen-1 arrived in Mars orbit in February 2021 and has been studying the planet ever since.  The Zhurong lander/rover will set down on Utopia Planitia. \n Zhurong means God of Fire in Chinese mythology.  The Chinese name for Mars\, Huoxing\, means Planet of Fire.
URL:https://spacepolicyonline.com/events/landing-of-chinas-zhurong-mars-rover-may-14-2021-711-pm-et/
END:VEVENT
END:VCALENDAR