BEGIN:VCALENDAR
VERSION:2.0
PRODID:-//SpacePolicyOnline.com - ECPv6.15.11//NONSGML v1.0//EN
CALSCALE:GREGORIAN
METHOD:PUBLISH
X-WR-CALNAME:SpacePolicyOnline.com
X-ORIGINAL-URL:https://spacepolicyonline.com
X-WR-CALDESC:Events for SpacePolicyOnline.com
REFRESH-INTERVAL;VALUE=DURATION:PT1H
X-Robots-Tag:noindex
X-PUBLISHED-TTL:PT1H
BEGIN:VTIMEZONE
TZID:America/New_York
BEGIN:DAYLIGHT
TZOFFSETFROM:-0500
TZOFFSETTO:-0400
TZNAME:EDT
DTSTART:20220313T070000
END:DAYLIGHT
BEGIN:STANDARD
TZOFFSETFROM:-0400
TZOFFSETTO:-0500
TZNAME:EST
DTSTART:20221106T060000
END:STANDARD
BEGIN:DAYLIGHT
TZOFFSETFROM:-0500
TZOFFSETTO:-0400
TZNAME:EDT
DTSTART:20230312T070000
END:DAYLIGHT
BEGIN:STANDARD
TZOFFSETFROM:-0400
TZOFFSETTO:-0500
TZNAME:EST
DTSTART:20231105T060000
END:STANDARD
BEGIN:DAYLIGHT
TZOFFSETFROM:-0500
TZOFFSETTO:-0400
TZNAME:EDT
DTSTART:20240310T070000
END:DAYLIGHT
BEGIN:STANDARD
TZOFFSETFROM:-0400
TZOFFSETTO:-0500
TZNAME:EST
DTSTART:20241103T060000
END:STANDARD
END:VTIMEZONE
BEGIN:VEVENT
DTSTART;TZID=America/New_York:20230414T073000
DTEND;TZID=America/New_York:20230414T230000
DTSTAMP:20260425T144038
CREATED:20230329T174913Z
LAST-MODIFIED:20230413T121230Z
UID:61005-1681457400-1681513200@spacepolicyonline.com
SUMMARY:LAUNCH OF ESA'S JUPITER ICY MOONS EXPLORER (JUICE)\, Apr 14\, 2023\, 8:14 am ET\, Kourou\, French Guiana (ESA TV begins 7:45 am ET)
DESCRIPTION:Update\, April 13:  The launch was scrubbed due to weather (lightning risk) and rescheduled for tomorrow\, April 14\, one minute earlier at 8:14 am ET. \nUpdate\, April 6:  ESA says the launch webcast on ESA TV will begin at 13:45 CEST (7:45 am EDT) and end at 16:05 CEST (10:05 am EDT)\, followed by a post-launch press conference from 16:30-17:15 CEST (10:30-11:15 am EDT). \nOriginal Entry: The European Space Agency (ESA) will launch the Jupiter Icy Moons Explorer (JUICE) spacecraft on an Ariane 5 rocket from the Guiana Space Centre in Kourou\, French Guiana on April 13\, 2023 at 14:15 Central European Summer Time (8:15 am Eastern Daylight Time). \nThe launch will be livestreamed on ESA TV. \nA pre-launch briefing in English will be livestreamed on ESA TV on April 6 from 14:00-15:00 CEST (8:00-9:00 am EDT). See our separate Calendar entry for that event. \nThe JUICE press kit is posted on ESA’s website. JUICE will take eight years (with five gravity assists) to reach Jupiter\, arriving in July 2031. It will explore three of the planet’s icy moons — Ganymede\, Callisto and Europa.
URL:https://spacepolicyonline.com/events/launch-of-esas-jupiter-icy-moons-explorer-juice-apr-13-2023-815-am-et-kourou-french-guiana-esa-tv/
END:VEVENT
END:VCALENDAR