BEGIN:VCALENDAR
VERSION:2.0
PRODID:-//SpacePolicyOnline.com - ECPv6.15.11//NONSGML v1.0//EN
CALSCALE:GREGORIAN
METHOD:PUBLISH
X-WR-CALNAME:SpacePolicyOnline.com
X-ORIGINAL-URL:https://spacepolicyonline.com
X-WR-CALDESC:Events for SpacePolicyOnline.com
REFRESH-INTERVAL;VALUE=DURATION:PT1H
X-Robots-Tag:noindex
X-PUBLISHED-TTL:PT1H
BEGIN:VTIMEZONE
TZID:America/New_York
BEGIN:DAYLIGHT
TZOFFSETFROM:-0500
TZOFFSETTO:-0400
TZNAME:EDT
DTSTART:20240310T070000
END:DAYLIGHT
BEGIN:STANDARD
TZOFFSETFROM:-0400
TZOFFSETTO:-0500
TZNAME:EST
DTSTART:20241103T060000
END:STANDARD
BEGIN:DAYLIGHT
TZOFFSETFROM:-0500
TZOFFSETTO:-0400
TZNAME:EDT
DTSTART:20250309T070000
END:DAYLIGHT
BEGIN:STANDARD
TZOFFSETFROM:-0400
TZOFFSETTO:-0500
TZNAME:EST
DTSTART:20251102T060000
END:STANDARD
BEGIN:DAYLIGHT
TZOFFSETFROM:-0500
TZOFFSETTO:-0400
TZNAME:EDT
DTSTART:20260308T070000
END:DAYLIGHT
BEGIN:STANDARD
TZOFFSETFROM:-0400
TZOFFSETTO:-0500
TZNAME:EST
DTSTART:20261101T060000
END:STANDARD
END:VTIMEZONE
BEGIN:VEVENT
DTSTART;TZID=America/New_York:20250730T070000
DTEND;TZID=America/New_York:20250730T230000
DTSTAMP:20260419T141725
CREATED:20250721T162308Z
LAST-MODIFIED:20250723T213411Z
UID:82707-1753858800-1753916400@spacepolicyonline.com
SUMMARY:LAUNCH OF NASA-ISRO NISAR EARTH OBSERVING SATELLITE\, July 30\, 2025\, 8:10 am EDT/17:40 IST
DESCRIPTION:Update\, July 23:  NASA will provide live launch coverage beginning at 7:00 am ET on NASA+ and the agency’s YouTube channel.  (A pre-launch telecon is on July 28. See our separate entry.) \nOriginal Entry: The Indian Space Research Organisation (ISRO) will launch the NASA-ISRO Synthetic Aperture Radar (NISAR) satellite from Sriharikota\, India on a GSLV rocket on July 30\, 2025 at 17:40 Indian Standard Time (8:10 am Eastern Daylight Time). \n\n? Historic Launch Ahead: ISRO Set to Launch NISAR\, a joint satellite with NASA ! \n? On July 30\, 2025 at 17:40 IST\, ISRO’s GSLV-F16 will launch #NISAR\, the first joint Earth observation satellite by ISRO & NASA\, from Sriharikota. \n?️ NISAR will scan the entire globe every 12… pic.twitter.com/4Mry076XSZ \n— ISRO (@isro) July 21\, 2025
URL:https://spacepolicyonline.com/events/launch-of-nasa-isro-nisar-earth-observing-satellite-july-30-2025-810-am-edt-1740-ist/
END:VEVENT
END:VCALENDAR