BEGIN:VCALENDAR
VERSION:2.0
PRODID:-//SpacePolicyOnline.com - ECPv6.15.11//NONSGML v1.0//EN
CALSCALE:GREGORIAN
METHOD:PUBLISH
X-WR-CALNAME:SpacePolicyOnline.com
X-ORIGINAL-URL:https://spacepolicyonline.com
X-WR-CALDESC:Events for SpacePolicyOnline.com
REFRESH-INTERVAL;VALUE=DURATION:PT1H
X-Robots-Tag:noindex
X-PUBLISHED-TTL:PT1H
BEGIN:VTIMEZONE
TZID:America/New_York
BEGIN:DAYLIGHT
TZOFFSETFROM:-0500
TZOFFSETTO:-0400
TZNAME:EDT
DTSTART:20200308T070000
END:DAYLIGHT
BEGIN:STANDARD
TZOFFSETFROM:-0400
TZOFFSETTO:-0500
TZNAME:EST
DTSTART:20201101T060000
END:STANDARD
BEGIN:DAYLIGHT
TZOFFSETFROM:-0500
TZOFFSETTO:-0400
TZNAME:EDT
DTSTART:20210314T070000
END:DAYLIGHT
BEGIN:STANDARD
TZOFFSETFROM:-0400
TZOFFSETTO:-0500
TZNAME:EST
DTSTART:20211107T060000
END:STANDARD
BEGIN:DAYLIGHT
TZOFFSETFROM:-0500
TZOFFSETTO:-0400
TZNAME:EDT
DTSTART:20220313T070000
END:DAYLIGHT
BEGIN:STANDARD
TZOFFSETFROM:-0400
TZOFFSETTO:-0500
TZNAME:EST
DTSTART:20221106T060000
END:STANDARD
END:VTIMEZONE
BEGIN:VEVENT
DTSTART;TZID=America/New_York:20210629T190000
DTEND;TZID=America/New_York:20210629T230000
DTSTAMP:20260419T112346
CREATED:20210624T124231Z
LAST-MODIFIED:20210624T124231Z
UID:44931-1624993200-1625007600@spacepolicyonline.com
SUMMARY:LAUNCH OF PROGRESS MS-17 TO ISS\, June 29\, 2021\, Kazakhstan\, 7:27 pm ET
DESCRIPTION:Russia will launch the Progress MS-17 cargo spacecraft to the International Space Station on June 29\, 2021 at 7:27 pm ET (June 30\, 4:27 am local time at the Baikonur Cosmodrome in Kazakhstan). \nNASA refers to this as Progress 78 or 78P because it is the 78th Progress mission to ISS\, but there were dozens earlier Progress missions to Soviet/Russian space stations beginning in 1978. \nProgress MS-17 is scheduled to dock with ISS two days later on July 1\, 2021 at 9:02 pm ET. \nNASA TV will cover the launch beginning at 7:00 pm ET on June 29\, and the docking beginning at 8:15 pm ET on July 1.
URL:https://spacepolicyonline.com/events/launch-of-progress-ms-17-to-iss-june-29-2021-kazakhstan-727-pm-et/
END:VEVENT
END:VCALENDAR