BEGIN:VCALENDAR
VERSION:2.0
PRODID:-//SpacePolicyOnline.com - ECPv6.15.11//NONSGML v1.0//EN
CALSCALE:GREGORIAN
METHOD:PUBLISH
X-WR-CALNAME:SpacePolicyOnline.com
X-ORIGINAL-URL:https://spacepolicyonline.com
X-WR-CALDESC:Events for SpacePolicyOnline.com
REFRESH-INTERVAL;VALUE=DURATION:PT1H
X-Robots-Tag:noindex
X-PUBLISHED-TTL:PT1H
BEGIN:VTIMEZONE
TZID:America/New_York
BEGIN:DAYLIGHT
TZOFFSETFROM:-0500
TZOFFSETTO:-0400
TZNAME:EDT
DTSTART:20180311T070000
END:DAYLIGHT
BEGIN:STANDARD
TZOFFSETFROM:-0400
TZOFFSETTO:-0500
TZNAME:EST
DTSTART:20181104T060000
END:STANDARD
BEGIN:DAYLIGHT
TZOFFSETFROM:-0500
TZOFFSETTO:-0400
TZNAME:EDT
DTSTART:20190310T070000
END:DAYLIGHT
BEGIN:STANDARD
TZOFFSETFROM:-0400
TZOFFSETTO:-0500
TZNAME:EST
DTSTART:20191103T060000
END:STANDARD
BEGIN:DAYLIGHT
TZOFFSETFROM:-0500
TZOFFSETTO:-0400
TZNAME:EDT
DTSTART:20200308T070000
END:DAYLIGHT
BEGIN:STANDARD
TZOFFSETFROM:-0400
TZOFFSETTO:-0500
TZNAME:EST
DTSTART:20201101T060000
END:STANDARD
END:VTIMEZONE
BEGIN:VEVENT
DTSTART;TZID=America/New_York:20190925T090000
DTEND;TZID=America/New_York:20190925T230000
DTSTAMP:20260422T184515
CREATED:20190708T223003Z
LAST-MODIFIED:20190920T213225Z
UID:27318-1569402000-1569452400@spacepolicyonline.com
SUMMARY:LAUNCH AND DOCKING OF SOYUZ MS-15 TO ISS\, Sept 25\, 2019\, LAUNCH: Kazakhstan\, 9:57 am EDT; DOCK: 3:45 pm ET
DESCRIPTION:The launch of Soyuz MS-15 to the International Space Station (ISS) is scheduled for September 25\, 2019 from the Baikonur Cosmodrome in Kazakhstan. \nLaunch time is 9:57 am Eastern Daylight Time (EDT).  Docking with the ISS is expected about 6 hours later at 3:45 pm ET. \nNASA TV will cover the — \n\nlaunch beginning at 9:00 am ET\,\ndocking beginning at 3:00 pm ET and\nhatch opening beginning at 5:00 pm ET.\n\nThis is a somewhat unusual mission not only because it carries a “spaceflight participant” (tourist) from the United Arab Emirates (UAE)\, but because with the arrival of these three crew members\, the ISS will have 9 occupants instead of the usual 6.   It will be only for eight days\, but it is rare that so many people are on board at one time. \nThe three crew members launching on this mission are: \n\nJessica Meir (NASA) who will return in the spring of 2020 with Skripochka and Morgan\nOleg Skripochka (Roscosmos) who will return in the spring of 2020 with Meir and Morgan\nHazzaa Ali Almansoori (United Arab Emirates) who will return on October 3\, 2019 with Hague and Ovchinin\n\nThe six people who will be on ISS already are: \n\nChristina Koch (NASA) who arrived in March 2019 and will return in February 2020 with Parmitano and Skvortsov\nNick Hague (NASA) who arrived in March 2019 and will return on October 3\, 2019 with Almansoori and Ovchinin\nAleksey Ovchinin (Roscosmos) who arrived in March 2019 and will return on October 3\, 2019 with Almansoori and Hague\nDrew Morgan (NASA) who will arrive in July 2019 and return in the spring of 2020 with Meir and Skripochka\nLuca Parmitano (ESA) who will arrive in July 2019 and return in February 2020 with Koch and Skvortsov\nOleg Skripochka (Roscosmos) who will arrive in July 2019 and return in the spring of 2020 with Morgan and Meir\n\nNote:  Soyuz MS-14 is an uncrewed mission to test a modified launch abort system for integration into a different version of the Soyuz rocket (Soyuz 2.1a) that Russia uses for these missions. \n 
URL:https://spacepolicyonline.com/events/launch-of-soyuz-ms-15-to-iss-sept-25-2019-kazakhstan/
END:VEVENT
END:VCALENDAR