BEGIN:VCALENDAR
VERSION:2.0
PRODID:-//SpacePolicyOnline.com - ECPv6.15.11//NONSGML v1.0//EN
CALSCALE:GREGORIAN
METHOD:PUBLISH
X-WR-CALNAME:SpacePolicyOnline.com
X-ORIGINAL-URL:https://spacepolicyonline.com
X-WR-CALDESC:Events for SpacePolicyOnline.com
REFRESH-INTERVAL;VALUE=DURATION:PT1H
X-Robots-Tag:noindex
X-PUBLISHED-TTL:PT1H
BEGIN:VTIMEZONE
TZID:America/New_York
BEGIN:DAYLIGHT
TZOFFSETFROM:-0500
TZOFFSETTO:-0400
TZNAME:EDT
DTSTART:20210314T070000
END:DAYLIGHT
BEGIN:STANDARD
TZOFFSETFROM:-0400
TZOFFSETTO:-0500
TZNAME:EST
DTSTART:20211107T060000
END:STANDARD
BEGIN:DAYLIGHT
TZOFFSETFROM:-0500
TZOFFSETTO:-0400
TZNAME:EDT
DTSTART:20220313T070000
END:DAYLIGHT
BEGIN:STANDARD
TZOFFSETFROM:-0400
TZOFFSETTO:-0500
TZNAME:EST
DTSTART:20221106T060000
END:STANDARD
BEGIN:DAYLIGHT
TZOFFSETFROM:-0500
TZOFFSETTO:-0400
TZNAME:EDT
DTSTART:20230312T070000
END:DAYLIGHT
BEGIN:STANDARD
TZOFFSETFROM:-0400
TZOFFSETTO:-0500
TZNAME:EST
DTSTART:20231105T060000
END:STANDARD
END:VTIMEZONE
BEGIN:VEVENT
DTSTART;TZID=America/New_York:20221025T113000
DTEND;TZID=America/New_York:20221025T230000
DTSTAMP:20260423T160312
CREATED:20221024T135502Z
LAST-MODIFIED:20221024T135502Z
UID:57236-1666697400-1666738800@spacepolicyonline.com
SUMMARY:LEO SATELLITE CONSTELLATIONS: WHY SMART SHARING RULES MATTER IN SPACE (New America)\, Oct 25\, 2022\, DC/virtual\, 11:45 am-1:45 pm ET
DESCRIPTION:New America will host a luncheon on October 25\, 2022 from 11:45 am-1:45 pm ET with two commissioners from the Federal Communications Commission and a panel of experts to discuss “LEO Satellite Constellations: Why Smart Sharing Rules Matter in Space.” \nThe event will take place at New America’s offices at 740 15th Street NW\, Washington\, DC and will be webcast.  More information and a link to the webcast are on the event’s website. \nSpeakers are: \nKeynote Remarks: \nCommissioner Geoffrey Starks\nFederal Communications Commission \nCommissioner Nathan Simington\nFederal Communications Commission \nDiscussion Panel: \nJulie Zoller\nHead of Global Regulatory Affairs\, Amazon’s Project Kuiper \nDavid Goldman\nSenior Director of Satellite Policy\, SpaceX \nWhitney Lohmeyer\nAssistant Professor of Engineering\, Olin College of Engineering \nHarold Feld\nSenior Vice President\, Public Knowledge \n  \n 
URL:https://spacepolicyonline.com/events/leo-satellite-constellations-why-smart-sharing-rules-matter-in-space-new-america-oct-25-2022-dc-virtual-1145-am-145-pm-et/
END:VEVENT
END:VCALENDAR