BEGIN:VCALENDAR
VERSION:2.0
PRODID:-//SpacePolicyOnline.com - ECPv6.15.11//NONSGML v1.0//EN
CALSCALE:GREGORIAN
METHOD:PUBLISH
X-WR-CALNAME:SpacePolicyOnline.com
X-ORIGINAL-URL:https://spacepolicyonline.com
X-WR-CALDESC:Events for SpacePolicyOnline.com
REFRESH-INTERVAL;VALUE=DURATION:PT1H
X-Robots-Tag:noindex
X-PUBLISHED-TTL:PT1H
BEGIN:VTIMEZONE
TZID:America/New_York
BEGIN:DAYLIGHT
TZOFFSETFROM:-0500
TZOFFSETTO:-0400
TZNAME:EDT
DTSTART:20220313T070000
END:DAYLIGHT
BEGIN:STANDARD
TZOFFSETFROM:-0400
TZOFFSETTO:-0500
TZNAME:EST
DTSTART:20221106T060000
END:STANDARD
BEGIN:DAYLIGHT
TZOFFSETFROM:-0500
TZOFFSETTO:-0400
TZNAME:EDT
DTSTART:20230312T070000
END:DAYLIGHT
BEGIN:STANDARD
TZOFFSETFROM:-0400
TZOFFSETTO:-0500
TZNAME:EST
DTSTART:20231105T060000
END:STANDARD
BEGIN:DAYLIGHT
TZOFFSETFROM:-0500
TZOFFSETTO:-0400
TZNAME:EDT
DTSTART:20240310T070000
END:DAYLIGHT
BEGIN:STANDARD
TZOFFSETFROM:-0400
TZOFFSETTO:-0500
TZNAME:EST
DTSTART:20241103T060000
END:STANDARD
END:VTIMEZONE
BEGIN:VEVENT
DTSTART;TZID=America/New_York:20230124T110000
DTEND;TZID=America/New_York:20230124T230000
DTSTAMP:20260422T145435
CREATED:20230117T143008Z
LAST-MODIFIED:20230117T143008Z
UID:59369-1674558000-1674601200@spacepolicyonline.com
SUMMARY:LOCKHEED MARTIN 4Q2022 FINANCIAL RESULTS TELECON\, Jan 24\, 2023\, virtual\, 11:00 am ET
DESCRIPTION:Lockheed Martin will hold its 4Q2022 and full year 2022 financial results telecon on January 24\, 2023 at 11:00 am ET. Audio will be livestreamed on the company’s website. \nParticipants are: \n\nJames Taiclet\, chairman\, president and chief executive officer;\nJay Malave\, chief financial officer; and\nMaria Ricciardone Lee\, vice president of investor relations
URL:https://spacepolicyonline.com/events/lockheed-martin-4q2022-financial-results-telecon-jan-24-2023-virtual-1100-am-et/
END:VEVENT
END:VCALENDAR