BEGIN:VCALENDAR
VERSION:2.0
PRODID:-//SpacePolicyOnline.com - ECPv6.15.11//NONSGML v1.0//EN
CALSCALE:GREGORIAN
METHOD:PUBLISH
X-WR-CALNAME:SpacePolicyOnline.com
X-ORIGINAL-URL:https://spacepolicyonline.com
X-WR-CALDESC:Events for SpacePolicyOnline.com
REFRESH-INTERVAL;VALUE=DURATION:PT1H
X-Robots-Tag:noindex
X-PUBLISHED-TTL:PT1H
BEGIN:VTIMEZONE
TZID:America/New_York
BEGIN:DAYLIGHT
TZOFFSETFROM:-0500
TZOFFSETTO:-0400
TZNAME:EDT
DTSTART:20180311T070000
END:DAYLIGHT
BEGIN:STANDARD
TZOFFSETFROM:-0400
TZOFFSETTO:-0500
TZNAME:EST
DTSTART:20181104T060000
END:STANDARD
BEGIN:DAYLIGHT
TZOFFSETFROM:-0500
TZOFFSETTO:-0400
TZNAME:EDT
DTSTART:20190310T070000
END:DAYLIGHT
BEGIN:STANDARD
TZOFFSETFROM:-0400
TZOFFSETTO:-0500
TZNAME:EST
DTSTART:20191103T060000
END:STANDARD
BEGIN:DAYLIGHT
TZOFFSETFROM:-0500
TZOFFSETTO:-0400
TZNAME:EDT
DTSTART:20200308T070000
END:DAYLIGHT
BEGIN:STANDARD
TZOFFSETFROM:-0400
TZOFFSETTO:-0500
TZNAME:EST
DTSTART:20201101T060000
END:STANDARD
END:VTIMEZONE
BEGIN:VEVENT
DTSTART;TZID=America/New_York:20191007T080000
DTEND;TZID=America/New_York:20191011T230000
DTSTAMP:20260420T134030
CREATED:20190729T213554Z
LAST-MODIFIED:20190729T215956Z
UID:27985-1570435200-1570834800@spacepolicyonline.com
SUMMARY:LUXEMBOURG SPACE RESOURCES WEEK\, Oct 7-11\, 2019\, Luxepo\, Luxembourg
DESCRIPTION:The Grand Duchy of Luxembourg will sponsor Space Resources Week from October 7-11\, 2019 at Luxepo in Luxembourg. \nThree events will be held throughout the week: \n\nOctober 7-8 — Space Resources: Professional Course\nOctober 9 — Mining Space Summit\nOctober 10-11 — ESA Workshop on What Next for Space Resources Utilization\n\nMore information on ESA’s workshop is on ESA’s website.
URL:https://spacepolicyonline.com/events/luxembourg-space-resources-week-oct-7-11-2019-luxepo-luxembourg/
END:VEVENT
END:VCALENDAR