BEGIN:VCALENDAR
VERSION:2.0
PRODID:-//SpacePolicyOnline.com - ECPv6.15.11//NONSGML v1.0//EN
CALSCALE:GREGORIAN
METHOD:PUBLISH
X-WR-CALNAME:SpacePolicyOnline.com
X-ORIGINAL-URL:https://spacepolicyonline.com
X-WR-CALDESC:Events for SpacePolicyOnline.com
REFRESH-INTERVAL;VALUE=DURATION:PT1H
X-Robots-Tag:noindex
X-PUBLISHED-TTL:PT1H
BEGIN:VTIMEZONE
TZID:America/New_York
BEGIN:DAYLIGHT
TZOFFSETFROM:-0500
TZOFFSETTO:-0400
TZNAME:EDT
DTSTART:20180311T070000
END:DAYLIGHT
BEGIN:STANDARD
TZOFFSETFROM:-0400
TZOFFSETTO:-0500
TZNAME:EST
DTSTART:20181104T060000
END:STANDARD
BEGIN:DAYLIGHT
TZOFFSETFROM:-0500
TZOFFSETTO:-0400
TZNAME:EDT
DTSTART:20190310T070000
END:DAYLIGHT
BEGIN:STANDARD
TZOFFSETFROM:-0400
TZOFFSETTO:-0500
TZNAME:EST
DTSTART:20191103T060000
END:STANDARD
BEGIN:DAYLIGHT
TZOFFSETFROM:-0500
TZOFFSETTO:-0400
TZNAME:EDT
DTSTART:20200308T070000
END:DAYLIGHT
BEGIN:STANDARD
TZOFFSETFROM:-0400
TZOFFSETTO:-0500
TZNAME:EST
DTSTART:20201101T060000
END:STANDARD
END:VTIMEZONE
BEGIN:VEVENT
DTSTART;TZID=America/New_York:20190103T140000
DTEND;TZID=America/New_York:20190103T230000
DTSTAMP:20260420T083137
CREATED:20181216T150227Z
LAST-MODIFIED:20181226T135501Z
UID:22784-1546524000-1546556400@spacepolicyonline.com
SUMMARY:MEDIA EVENT FOR THE NEW HORIZONS FLYBY OF ULTIMA THULE\, Jan 3 2019\, 2:00 pm ET (webcast)
DESCRIPTION:The Johns Hopkins University Applied Physics Laboratory (APL) is mission control for the New Horizons spacecraft’s flyby of the Kuiper Belt Object (KBO) nicknamed Ultima Thule.  New Horizons flew past Pluto in 2015 and is continuing on its flight path\, which is taking it near this tiny KBO\, which is just 37 kilometers in diameter. \nThe spacecraft’s closest approach to Ultima Thule is at 12:33 am January 1\, 2019.  It takes 6 hours 7 minutes and 58 seconds for a signal to travel back to Earth\, thus mission controllers will not know the spacecraft’s status until mid-morning that day. \nJohns Hopkins University Applied Physics Lab (APL) is mission control for the flyby and is planning a series of press conferences\, all of which will be webcast by APL and broadcast on NASA TV if the agency is open (it is currently shutdown due to a lapse in funding). \nThe APL webcast is on YouTube. \n\nDecember 28\, 2018\, 1:00-1:30 pm ET\, preview of the spacecraft and science operations\n\n\nDecember 31\, 2018\,\n\n2:00 pm ET\, Media Briefing\n3:00 pm ET\, Q&A with New Horizons Teams\n8:00 pm ET\, Panel Discussion: New Horizons Flyby of Ultima Thule\n\n\nJanuary 1\, 2019\,\n\n12:15 am ET\, Closest Approach to Ultima Thule\n10:00 am ET\, Signal Acquisition from Ultima Thule\n11:30 am ET\, Post-Flyby Press Conference\n\n\nJanuary 2\, 2019\, 2:00 pm ET\, Science Briefing Results\nJanuary 3\, 2019\, 2:00 pm ET\, Science Briefing Results
URL:https://spacepolicyonline.com/events/media-event-for-the-new-horizons-flyby-of-ultima-thule-jan-3-2019-200-pm-et-nasa-tv/
END:VEVENT
END:VCALENDAR