BEGIN:VCALENDAR
VERSION:2.0
PRODID:-//SpacePolicyOnline.com - ECPv6.15.11//NONSGML v1.0//EN
CALSCALE:GREGORIAN
METHOD:PUBLISH
X-WR-CALNAME:SpacePolicyOnline.com
X-ORIGINAL-URL:https://spacepolicyonline.com
X-WR-CALDESC:Events for SpacePolicyOnline.com
REFRESH-INTERVAL;VALUE=DURATION:PT1H
X-Robots-Tag:noindex
X-PUBLISHED-TTL:PT1H
BEGIN:VTIMEZONE
TZID:America/New_York
BEGIN:DAYLIGHT
TZOFFSETFROM:-0500
TZOFFSETTO:-0400
TZNAME:EDT
DTSTART:20210314T070000
END:DAYLIGHT
BEGIN:STANDARD
TZOFFSETFROM:-0400
TZOFFSETTO:-0500
TZNAME:EST
DTSTART:20211107T060000
END:STANDARD
BEGIN:DAYLIGHT
TZOFFSETFROM:-0500
TZOFFSETTO:-0400
TZNAME:EDT
DTSTART:20220313T070000
END:DAYLIGHT
BEGIN:STANDARD
TZOFFSETFROM:-0400
TZOFFSETTO:-0500
TZNAME:EST
DTSTART:20221106T060000
END:STANDARD
BEGIN:DAYLIGHT
TZOFFSETFROM:-0500
TZOFFSETTO:-0400
TZNAME:EDT
DTSTART:20230312T070000
END:DAYLIGHT
BEGIN:STANDARD
TZOFFSETFROM:-0400
TZOFFSETTO:-0500
TZNAME:EST
DTSTART:20231105T060000
END:STANDARD
END:VTIMEZONE
BEGIN:VEVENT
DTSTART;TZID=America/New_York:20221025T090000
DTEND;TZID=America/New_York:20221025T230000
DTSTAMP:20260423T182201
CREATED:20221002T175229Z
LAST-MODIFIED:20221023T210359Z
UID:56707-1666688400-1666738800@spacepolicyonline.com
SUMMARY:MI-SPACE--1ST ANNUAL SPACEPOWER SECURITY FORUM (Mitchell Inst)\, Oct 25\, 2022\, Arlington\, VA\, 9:00 am - 3:00 pm ET
DESCRIPTION:The Mitchell Institute Spacepower Advantage Center of Excellence will hold its first annual Spacepower Security Forum at the Army Navy Country Club in Arlington\, VA on October 25\, 2022 from 9:00 am – 3:00 pm ET. \nMore information is on the event’s website.
URL:https://spacepolicyonline.com/events/mi-space-1st-annual-spacepower-security-forum-mitchell-inst-oct-25-2022-arlington-va-900-am-300-pm-et/
END:VEVENT
END:VCALENDAR