BEGIN:VCALENDAR
VERSION:2.0
PRODID:-//SpacePolicyOnline.com - ECPv6.15.11//NONSGML v1.0//EN
CALSCALE:GREGORIAN
METHOD:PUBLISH
X-WR-CALNAME:SpacePolicyOnline.com
X-ORIGINAL-URL:https://spacepolicyonline.com
X-WR-CALDESC:Events for SpacePolicyOnline.com
REFRESH-INTERVAL;VALUE=DURATION:PT1H
X-Robots-Tag:noindex
X-PUBLISHED-TTL:PT1H
BEGIN:VTIMEZONE
TZID:America/New_York
BEGIN:DAYLIGHT
TZOFFSETFROM:-0500
TZOFFSETTO:-0400
TZNAME:EDT
DTSTART:20180311T070000
END:DAYLIGHT
BEGIN:STANDARD
TZOFFSETFROM:-0400
TZOFFSETTO:-0500
TZNAME:EST
DTSTART:20181104T060000
END:STANDARD
BEGIN:DAYLIGHT
TZOFFSETFROM:-0500
TZOFFSETTO:-0400
TZNAME:EDT
DTSTART:20190310T070000
END:DAYLIGHT
BEGIN:STANDARD
TZOFFSETFROM:-0400
TZOFFSETTO:-0500
TZNAME:EST
DTSTART:20191103T060000
END:STANDARD
BEGIN:DAYLIGHT
TZOFFSETFROM:-0500
TZOFFSETTO:-0400
TZNAME:EDT
DTSTART:20200308T070000
END:DAYLIGHT
BEGIN:STANDARD
TZOFFSETFROM:-0400
TZOFFSETTO:-0500
TZNAME:EST
DTSTART:20201101T060000
END:STANDARD
END:VTIMEZONE
BEGIN:VEVENT
DTSTART;TZID=America/New_York:20191010T080000
DTEND;TZID=America/New_York:20191011T230000
DTSTAMP:20260420T110043
CREATED:20191006T153601Z
LAST-MODIFIED:20191006T153601Z
UID:29495-1570694400-1570834800@spacepolicyonline.com
SUMMARY:MONTREAL SPACE SYMPOSIUM 2019: GOING BEYOND\, Oct 10-11\, 2019\, Montréal\, Canada
DESCRIPTION:The Montréal Space Symposium 2019 will take place at the headquarters of the International Civil Aviation Organization (ICAO)\, 999\, boulevard Robert-Bourassa\, Montréal\, Québec H3C 5H7\, Canada from October 10-11\, 2019. \nThe theme this year is “Going Beyond.” \nMore information in on the event’s website. \n 
URL:https://spacepolicyonline.com/events/montreal-space-symposium-2019-going-beyond-oct-10-11-2019-montreal-canada/
END:VEVENT
END:VCALENDAR