BEGIN:VCALENDAR
VERSION:2.0
PRODID:-//SpacePolicyOnline.com - ECPv6.15.11//NONSGML v1.0//EN
CALSCALE:GREGORIAN
METHOD:PUBLISH
X-WR-CALNAME:SpacePolicyOnline.com
X-ORIGINAL-URL:https://spacepolicyonline.com
X-WR-CALDESC:Events for SpacePolicyOnline.com
REFRESH-INTERVAL;VALUE=DURATION:PT1H
X-Robots-Tag:noindex
X-PUBLISHED-TTL:PT1H
BEGIN:VTIMEZONE
TZID:America/New_York
BEGIN:DAYLIGHT
TZOFFSETFROM:-0500
TZOFFSETTO:-0400
TZNAME:EDT
DTSTART:20220313T070000
END:DAYLIGHT
BEGIN:STANDARD
TZOFFSETFROM:-0400
TZOFFSETTO:-0500
TZNAME:EST
DTSTART:20221106T060000
END:STANDARD
BEGIN:DAYLIGHT
TZOFFSETFROM:-0500
TZOFFSETTO:-0400
TZNAME:EDT
DTSTART:20230312T070000
END:DAYLIGHT
BEGIN:STANDARD
TZOFFSETFROM:-0400
TZOFFSETTO:-0500
TZNAME:EST
DTSTART:20231105T060000
END:STANDARD
BEGIN:DAYLIGHT
TZOFFSETFROM:-0500
TZOFFSETTO:-0400
TZNAME:EDT
DTSTART:20240310T070000
END:DAYLIGHT
BEGIN:STANDARD
TZOFFSETFROM:-0400
TZOFFSETTO:-0500
TZNAME:EST
DTSTART:20241103T060000
END:STANDARD
END:VTIMEZONE
BEGIN:VEVENT
DTSTART;TZID=America/New_York:20230523T113000
DTEND;TZID=America/New_York:20230523T230000
DTSTAMP:20260425T193507
CREATED:20230430T134906Z
LAST-MODIFIED:20230430T134924Z
UID:61811-1684841400-1684882800@spacepolicyonline.com
SUMMARY:MSBR LUNCHEON WITH NASA GODDARD DIRECTOR MAKENZIE LYSTRUP\, May 23\, 2023\, Greenbelt\, MD\, 11:30 am-1:00 pm ET
DESCRIPTION:The Maryland Space Business Roundtable (MSBR) will hold a luncheon on May 23\, 2023 from 11:30 am-1:00 pm ET at Martin’s Crosswinds in Greenbelt\, MD. \nThe speaker is Makenzie Lystrup\, recently appointed at the new Director of NASA’s Goddard Space Flight Center. \nMore information is on the MSBR website.
URL:https://spacepolicyonline.com/events/msbr-luncheon-with-nasa-goddard-director-makenzie-lystrup-may-23-2023-greenbelt-md-1130-am-100-pm-et/
END:VEVENT
END:VCALENDAR