BEGIN:VCALENDAR
VERSION:2.0
PRODID:-//SpacePolicyOnline.com - ECPv6.15.11//NONSGML v1.0//EN
CALSCALE:GREGORIAN
METHOD:PUBLISH
X-WR-CALNAME:SpacePolicyOnline.com
X-ORIGINAL-URL:https://spacepolicyonline.com
X-WR-CALDESC:Events for SpacePolicyOnline.com
REFRESH-INTERVAL;VALUE=DURATION:PT1H
X-Robots-Tag:noindex
X-PUBLISHED-TTL:PT1H
BEGIN:VTIMEZONE
TZID:America/New_York
BEGIN:DAYLIGHT
TZOFFSETFROM:-0500
TZOFFSETTO:-0400
TZNAME:EDT
DTSTART:20240310T070000
END:DAYLIGHT
BEGIN:STANDARD
TZOFFSETFROM:-0400
TZOFFSETTO:-0500
TZNAME:EST
DTSTART:20241103T060000
END:STANDARD
BEGIN:DAYLIGHT
TZOFFSETFROM:-0500
TZOFFSETTO:-0400
TZNAME:EDT
DTSTART:20250309T070000
END:DAYLIGHT
BEGIN:STANDARD
TZOFFSETFROM:-0400
TZOFFSETTO:-0500
TZNAME:EST
DTSTART:20251102T060000
END:STANDARD
BEGIN:DAYLIGHT
TZOFFSETFROM:-0500
TZOFFSETTO:-0400
TZNAME:EDT
DTSTART:20260308T070000
END:DAYLIGHT
BEGIN:STANDARD
TZOFFSETFROM:-0400
TZOFFSETTO:-0500
TZNAME:EST
DTSTART:20261101T060000
END:STANDARD
END:VTIMEZONE
BEGIN:VEVENT
DTSTART;TZID=America/New_York:20251210T113000
DTEND;TZID=America/New_York:20251210T230000
DTSTAMP:20260420T122036
CREATED:20251122T222430Z
LAST-MODIFIED:20251122T222430Z
UID:85162-1765366200-1765407600@spacepolicyonline.com
SUMMARY:MSBR LUNCHEON WITH NASA'S SHAWN DOMAGAL-GOLDMAN\, Dec 10\, 2025\, Greenbelt\, MD\, 11:30 am-1:00 pm ET
DESCRIPTION:The Maryland Space Business Roundtable (MSBR) will hold its next luncheon on December 10\, 2025 from 11:30 am-1:00 pm ET at Martin’s Crosswinds in Greenbelt\, MD. \nThe speaker is Shawn Domagal-Goldman\, Acting Director\, Astrophysics Division\, NASA Headquarters. \nMore information is on the event’s website.
URL:https://spacepolicyonline.com/events/msbr-luncheon-with-nasas-shawn-domagal-goldman-dec-10-2025-greenbelt-md-1130-am-100-pm-et/
END:VEVENT
END:VCALENDAR