BEGIN:VCALENDAR
VERSION:2.0
PRODID:-//SpacePolicyOnline.com - ECPv6.15.11//NONSGML v1.0//EN
CALSCALE:GREGORIAN
METHOD:PUBLISH
X-WR-CALNAME:SpacePolicyOnline.com
X-ORIGINAL-URL:https://spacepolicyonline.com
X-WR-CALDESC:Events for SpacePolicyOnline.com
REFRESH-INTERVAL;VALUE=DURATION:PT1H
X-Robots-Tag:noindex
X-PUBLISHED-TTL:PT1H
BEGIN:VTIMEZONE
TZID:America/New_York
BEGIN:DAYLIGHT
TZOFFSETFROM:-0500
TZOFFSETTO:-0400
TZNAME:EDT
DTSTART:20170312T070000
END:DAYLIGHT
BEGIN:STANDARD
TZOFFSETFROM:-0400
TZOFFSETTO:-0500
TZNAME:EST
DTSTART:20171105T060000
END:STANDARD
BEGIN:DAYLIGHT
TZOFFSETFROM:-0500
TZOFFSETTO:-0400
TZNAME:EDT
DTSTART:20180311T070000
END:DAYLIGHT
BEGIN:STANDARD
TZOFFSETFROM:-0400
TZOFFSETTO:-0500
TZNAME:EST
DTSTART:20181104T060000
END:STANDARD
BEGIN:DAYLIGHT
TZOFFSETFROM:-0500
TZOFFSETTO:-0400
TZNAME:EDT
DTSTART:20190310T070000
END:DAYLIGHT
BEGIN:STANDARD
TZOFFSETFROM:-0400
TZOFFSETTO:-0500
TZNAME:EST
DTSTART:20191103T060000
END:STANDARD
END:VTIMEZONE
BEGIN:VEVENT
DTSTART;TZID=America/New_York:20180717T113000
DTEND;TZID=America/New_York:20180717T230000
DTSTAMP:20260424T082856
CREATED:20180701T160732Z
LAST-MODIFIED:20180701T160732Z
UID:18944-1531827000-1531868400@spacepolicyonline.com
SUMMARY:MSBR LUNCHEON WITH NOAA'S GREG MANDT\, July 17\, 2018\, Greenbelt\, MD\, 11:30-1:30 ET
DESCRIPTION:The Maryland Space Business Roundtable (MSBR) will hold its next luncheon on July 17 2018 at Martin’s Crosswinds in Greenbelt\, MD atom 11:30 am – 1:30 pm ET.  The speaker is Greg Mandt\, Director\, Joint Polar Satellite System\, NOAA. \nMore information and registration instructions are on the MSBR website.
URL:https://spacepolicyonline.com/events/msbr-luncheon-with-noaas-greg-mandt-july-17-2018-greenbelt-md-1130-130-et/
END:VEVENT
END:VCALENDAR