BEGIN:VCALENDAR
VERSION:2.0
PRODID:-//SpacePolicyOnline.com - ECPv6.15.11//NONSGML v1.0//EN
CALSCALE:GREGORIAN
METHOD:PUBLISH
X-WR-CALNAME:SpacePolicyOnline.com
X-ORIGINAL-URL:https://spacepolicyonline.com
X-WR-CALDESC:Events for SpacePolicyOnline.com
REFRESH-INTERVAL;VALUE=DURATION:PT1H
X-Robots-Tag:noindex
X-PUBLISHED-TTL:PT1H
BEGIN:VTIMEZONE
TZID:America/New_York
BEGIN:DAYLIGHT
TZOFFSETFROM:-0500
TZOFFSETTO:-0400
TZNAME:EDT
DTSTART:20180311T070000
END:DAYLIGHT
BEGIN:STANDARD
TZOFFSETFROM:-0400
TZOFFSETTO:-0500
TZNAME:EST
DTSTART:20181104T060000
END:STANDARD
BEGIN:DAYLIGHT
TZOFFSETFROM:-0500
TZOFFSETTO:-0400
TZNAME:EDT
DTSTART:20190310T070000
END:DAYLIGHT
BEGIN:STANDARD
TZOFFSETFROM:-0400
TZOFFSETTO:-0500
TZNAME:EST
DTSTART:20191103T060000
END:STANDARD
BEGIN:DAYLIGHT
TZOFFSETFROM:-0500
TZOFFSETTO:-0400
TZNAME:EDT
DTSTART:20200308T070000
END:DAYLIGHT
BEGIN:STANDARD
TZOFFSETFROM:-0400
TZOFFSETTO:-0500
TZNAME:EST
DTSTART:20201101T060000
END:STANDARD
END:VTIMEZONE
BEGIN:VEVENT
DTSTART;TZID=America/New_York:20190917T113000
DTEND;TZID=America/New_York:20190917T230000
DTSTAMP:20260422T115432
CREATED:20190830T220518Z
LAST-MODIFIED:20190830T220518Z
UID:28578-1568719800-1568761200@spacepolicyonline.com
SUMMARY:MSBR LUNCHEON WITH THE NATIONAL SPACE COUNCIL'S RYAN WHITLEY\, Sept 17\, 2019\, Greenbelt\, MD\, 11:30 am - 1:30 pm ET
DESCRIPTION:The Maryland Space Business Roundtable (MSBR) will hold its next luncheon on September 17\, 2019 at Martin’s Crosswinds in Greenbelt\, MD.  The speaker is Ryan Whitley\, Director of Civil Space Policy at the White House National Space Council. \nMore information is on the MSBR website.
URL:https://spacepolicyonline.com/events/msbr-luncheon-with-the-national-space-councils-ryan-whitley-sept-17-2019-greenbelt-md-1130-am-130-pm-et/
END:VEVENT
END:VCALENDAR