BEGIN:VCALENDAR
VERSION:2.0
PRODID:-//SpacePolicyOnline.com - ECPv6.15.11//NONSGML v1.0//EN
CALSCALE:GREGORIAN
METHOD:PUBLISH
X-WR-CALNAME:SpacePolicyOnline.com
X-ORIGINAL-URL:https://spacepolicyonline.com
X-WR-CALDESC:Events for SpacePolicyOnline.com
REFRESH-INTERVAL;VALUE=DURATION:PT1H
X-Robots-Tag:noindex
X-PUBLISHED-TTL:PT1H
BEGIN:VTIMEZONE
TZID:America/New_York
BEGIN:DAYLIGHT
TZOFFSETFROM:-0500
TZOFFSETTO:-0400
TZNAME:EDT
DTSTART:20160313T070000
END:DAYLIGHT
BEGIN:STANDARD
TZOFFSETFROM:-0400
TZOFFSETTO:-0500
TZNAME:EST
DTSTART:20161106T060000
END:STANDARD
BEGIN:DAYLIGHT
TZOFFSETFROM:-0500
TZOFFSETTO:-0400
TZNAME:EDT
DTSTART:20170312T070000
END:DAYLIGHT
BEGIN:STANDARD
TZOFFSETFROM:-0400
TZOFFSETTO:-0500
TZNAME:EST
DTSTART:20171105T060000
END:STANDARD
BEGIN:DAYLIGHT
TZOFFSETFROM:-0500
TZOFFSETTO:-0400
TZNAME:EDT
DTSTART:20180311T070000
END:DAYLIGHT
BEGIN:STANDARD
TZOFFSETFROM:-0400
TZOFFSETTO:-0500
TZNAME:EST
DTSTART:20181104T060000
END:STANDARD
END:VTIMEZONE
BEGIN:VEVENT
DTSTART;VALUE=DATE:20170815
DTEND;VALUE=DATE:20170816
DTSTAMP:20260422T180230
CREATED:20170805T164144Z
LAST-MODIFIED:20170805T164144Z
UID:8890-1502755200-1502841599@spacepolicyonline.com
SUMMARY:MSBR Luncheon With UCAR's Antonio Busalacchi\, Aug 15\, 2017\, Martin's Crosswinds\, Greenbelt\, MD\, 11:30 am - 1:30 pm ET
DESCRIPTION:The Maryland Space Business Roundtable (MSBR) will hold its next luncheon on August 15\, 2017 at Martin’s Crosswinds in Greenbelt\, MD from 11:30 am – 1:30 pm ET.  The speaker is Antonio Busalacchi\, President\, University Corporation for Atmospheric Research (UCAR). Registration details and more information are available on MSBR’s website.
URL:https://spacepolicyonline.com/events/msbr-luncheon-with-ucars-antonio-busalacchi-aug-2017-greenbelt-md/
END:VEVENT
END:VCALENDAR