BEGIN:VCALENDAR
VERSION:2.0
PRODID:-//SpacePolicyOnline.com - ECPv6.15.11//NONSGML v1.0//EN
CALSCALE:GREGORIAN
METHOD:PUBLISH
X-WR-CALNAME:SpacePolicyOnline.com
X-ORIGINAL-URL:https://spacepolicyonline.com
X-WR-CALDESC:Events for SpacePolicyOnline.com
REFRESH-INTERVAL;VALUE=DURATION:PT1H
X-Robots-Tag:noindex
X-PUBLISHED-TTL:PT1H
BEGIN:VTIMEZONE
TZID:America/New_York
BEGIN:DAYLIGHT
TZOFFSETFROM:-0500
TZOFFSETTO:-0400
TZNAME:EDT
DTSTART:20180311T070000
END:DAYLIGHT
BEGIN:STANDARD
TZOFFSETFROM:-0400
TZOFFSETTO:-0500
TZNAME:EST
DTSTART:20181104T060000
END:STANDARD
BEGIN:DAYLIGHT
TZOFFSETFROM:-0500
TZOFFSETTO:-0400
TZNAME:EDT
DTSTART:20190310T070000
END:DAYLIGHT
BEGIN:STANDARD
TZOFFSETFROM:-0400
TZOFFSETTO:-0500
TZNAME:EST
DTSTART:20191103T060000
END:STANDARD
BEGIN:DAYLIGHT
TZOFFSETFROM:-0500
TZOFFSETTO:-0400
TZNAME:EDT
DTSTART:20200308T070000
END:DAYLIGHT
BEGIN:STANDARD
TZOFFSETFROM:-0400
TZOFFSETTO:-0500
TZNAME:EST
DTSTART:20201101T060000
END:STANDARD
END:VTIMEZONE
BEGIN:VEVENT
DTSTART;TZID=America/New_York:20191018T130000
DTEND;TZID=America/New_York:20191018T230000
DTSTAMP:20260420T014433
CREATED:20190928T125814Z
LAST-MODIFIED:20190928T130340Z
UID:29312-1571403600-1571439600@spacepolicyonline.com
SUMMARY:NAC SCIENCE COMMITTEE\, Oct 18\, 2019\, virtual\, 1:00-3:00 pm ET
DESCRIPTION:The Science Committee of the NASA Advisory Council (NAC) will meet via telephone and WebEx from 1:00-3:00 pm ET on October 18\, 2019. \nAnyone may listen to the meeting by following the instructions in the Federal Register notice\, which is reproduced below. \nSUMMARY: In accordance with the Federal Advisory Committee Act\, as \namended\, the National Aeronautics and Space Administration (NASA) \nannounces a meeting of the Science Committee of the NASA Advisory \nCouncil (NAC). This Committee reports to the NAC. The meeting will be \nheld for the purpose of soliciting\, from the scientific community and \nother persons\, scientific and technical information relevant to program \nplanning.\n\nDATES: Friday\, October 18\, 2019\, 1:00-3:00 p.m.\, Eastern Time.\n\nFOR FURTHER INFORMATION CONTACT: Ms. KarShelia Henderson\, Science \nMission Directorate\, NASA Headquarters\, Washington\, DC 20546\, (202) \n358-2355\, fax (202) 358-2779\, or khenderson@nasa.gov.\n\nSUPPLEMENTARY INFORMATION: The meeting will be open to the public \ntelephonically and by WebEx. You must use a touch-tone phone to \nparticipate in this meeting. Any interested person may dial the toll \nfree number 1-888-469-1762 or toll number 1-212-287-1653\, passcode \n8281293 followed by the # sign\, to participate in this meeting by \ntelephone. The WebEx link is https://nasaenterprise.webex.com; the \nmeeting number is 904 615 112 and the password is SC@Oct2019 (case \nsensitive). The agenda for the meeting includes the following topics:\n\n--Science Mission Directorate Missions\, Programs and Activities\n\n    It is imperative that the meeting be held on these dates to the \nscheduling priorities of the key participants.
URL:https://spacepolicyonline.com/events/nac-science-committee-oct-18-2019-virtual-100-300-pm-et/
END:VEVENT
END:VCALENDAR