BEGIN:VCALENDAR
VERSION:2.0
PRODID:-//SpacePolicyOnline.com - ECPv6.15.11//NONSGML v1.0//EN
CALSCALE:GREGORIAN
METHOD:PUBLISH
X-WR-CALNAME:SpacePolicyOnline.com
X-ORIGINAL-URL:https://spacepolicyonline.com
X-WR-CALDESC:Events for SpacePolicyOnline.com
REFRESH-INTERVAL;VALUE=DURATION:PT1H
X-Robots-Tag:noindex
X-PUBLISHED-TTL:PT1H
BEGIN:VTIMEZONE
TZID:America/New_York
BEGIN:DAYLIGHT
TZOFFSETFROM:-0500
TZOFFSETTO:-0400
TZNAME:EDT
DTSTART:20180311T070000
END:DAYLIGHT
BEGIN:STANDARD
TZOFFSETFROM:-0400
TZOFFSETTO:-0500
TZNAME:EST
DTSTART:20181104T060000
END:STANDARD
BEGIN:DAYLIGHT
TZOFFSETFROM:-0500
TZOFFSETTO:-0400
TZNAME:EDT
DTSTART:20190310T070000
END:DAYLIGHT
BEGIN:STANDARD
TZOFFSETFROM:-0400
TZOFFSETTO:-0500
TZNAME:EST
DTSTART:20191103T060000
END:STANDARD
BEGIN:DAYLIGHT
TZOFFSETFROM:-0500
TZOFFSETTO:-0400
TZNAME:EDT
DTSTART:20200308T070000
END:DAYLIGHT
BEGIN:STANDARD
TZOFFSETFROM:-0400
TZOFFSETTO:-0500
TZNAME:EST
DTSTART:20201101T060000
END:STANDARD
END:VTIMEZONE
BEGIN:VEVENT
DTSTART;TZID=America/New_York:20191006T153000
DTEND;TZID=America/New_York:20191007T230000
DTSTAMP:20260420T152409
CREATED:20191001T160912Z
LAST-MODIFIED:20191001T161005Z
UID:29417-1570375800-1570489200@spacepolicyonline.com
SUMMARY:NAE PUBLIC SESSIONS ON APOLLO LEGACY & FUTURE OF HUMAN SPACEFLIGHT\, Oct 6-7\, 2019\, DC (webcast)
DESCRIPTION:The National Academy of Engineering (NAE will hold its annual meeting in Washington\, DC from October 6-7\, 2019. \nThis year the event features two sessions open to the public that will examine the Apollo legacy on the 50th anniversary of the Apollo 11 landing\, and the future of human spaceflight.  They will be held at the National Academy of Sciences building\, 2101 Constitution Ave.\, NW\, Washington\, DC. \nThey will be webcast. \nSunday\, Oct. 6\, 3:30-4:45 pm ET (following induction of new NAE members and presentations of awards\, which begins at 12:00 pm ET): \n•    The Apollo Experience – Thomas P. Stafford\, former NASA astronaut and lieutenant general\, U.S. Air Force (retired)\n•    Humans Go to Mars – Charles F. Bolden Jr.\, former NASA administrator and major general\, U.S. Marine Corps (retired) \nMonday\, Oct. 7\, 9:45-11:45 am ET\, panel moderated by Deanna Bell\, TV host and founder/CEO\, Future Engineers that includes Stafford\, Bolden and — \n•    Robert L. Crippen\, captain\, U.S. Navy (retired)\, and former president\, Thiokol Propulsion\n•    Christopher J. Ferguson\, test pilot astronaut and CST-100 Starliner director of crew and mission systems\, Commercial Crew Program\, Boeing\n•    Hans Koenigsmann\, vice president\, Build and Flight Reliability\, SpaceX\n•    Sandra H. Magnus\, principal\, AstroPlanetview \nThe full NAE meeting agenda is posted on the Academy’s website. \n  \n 
URL:https://spacepolicyonline.com/events/nae-public-sessions-on-apollo-legacy-future-of-human-spaceflight-oct-6-7-2019-dc-webcast/
END:VEVENT
END:VCALENDAR