BEGIN:VCALENDAR
VERSION:2.0
PRODID:-//SpacePolicyOnline.com - ECPv6.15.11//NONSGML v1.0//EN
CALSCALE:GREGORIAN
METHOD:PUBLISH
X-WR-CALNAME:SpacePolicyOnline.com
X-ORIGINAL-URL:https://spacepolicyonline.com
X-WR-CALDESC:Events for SpacePolicyOnline.com
REFRESH-INTERVAL;VALUE=DURATION:PT1H
X-Robots-Tag:noindex
X-PUBLISHED-TTL:PT1H
BEGIN:VTIMEZONE
TZID:America/New_York
BEGIN:DAYLIGHT
TZOFFSETFROM:-0500
TZOFFSETTO:-0400
TZNAME:EDT
DTSTART:20170312T070000
END:DAYLIGHT
BEGIN:STANDARD
TZOFFSETFROM:-0400
TZOFFSETTO:-0500
TZNAME:EST
DTSTART:20171105T060000
END:STANDARD
BEGIN:DAYLIGHT
TZOFFSETFROM:-0500
TZOFFSETTO:-0400
TZNAME:EDT
DTSTART:20180311T070000
END:DAYLIGHT
BEGIN:STANDARD
TZOFFSETFROM:-0400
TZOFFSETTO:-0500
TZNAME:EST
DTSTART:20181104T060000
END:STANDARD
BEGIN:DAYLIGHT
TZOFFSETFROM:-0500
TZOFFSETTO:-0400
TZNAME:EDT
DTSTART:20190310T070000
END:DAYLIGHT
BEGIN:STANDARD
TZOFFSETFROM:-0400
TZOFFSETTO:-0500
TZNAME:EST
DTSTART:20191103T060000
END:STANDARD
END:VTIMEZONE
BEGIN:VEVENT
DTSTART;TZID=America/New_York:20180829T160000
DTEND;TZID=America/New_York:20180830T230000
DTSTAMP:20260422T140826
CREATED:20180814T174209Z
LAST-MODIFIED:20180829T195146Z
UID:19933-1535558400-1535670000@spacepolicyonline.com
SUMMARY:NASA ADVISORY COUNCIL (NAC)\, Aug 29-30\, 2018\, Ames Research Center\, CA (WebEx)
DESCRIPTION:The NASA Advisory Council (NAC) will meet August 29-30\, 2018 at NASA’s Ames Research Center\, Moffett Field\, CA.  The meeting on August 29 is 1:00-5:00 pm Pacific Time (4:oo-8:00 pm Eastern) and on August 30 is 10:30 am – 4:00 pm Pacific Time (1:30-7:00 pm Eastern). \nThe agenda is posted on the Council’s website (dial-in instructions at the bottom of the second page). \nThe meetings will be available remotely via WebEx by following the instructions in the Federal Register notice\, which is reproduced below. \nSUMMARY: In accordance with the Federal Advisory Committee Act\, as \namended\, the National Aeronautics and Space Administration (NASA) \nannounces a meeting of the NASA Advisory Council (NAC).\n\nDATES: Wednesday\, August 29\, 2018\, 1:00-5:00 p.m.; and Thursday\, August \n30\, 2018\, 10:30 a.m.-4:00 p.m.\, PDT.\n\nADDRESSES: NASA Ames Research Center\, NASA Ames Conference Center\, \nBuilding 3\, 500 Severyns Road\, Ballroom\, Moffett Field\, CA 94035.\n\nFOR FURTHER INFORMATION CONTACT: Ms. Marla King\, NAC Administrative \nOfficer\, NASA Headquarters\, Washington\, DC 20546\, (202) 358-1148 or \nmarla.k.king@nasa.gov.\n\nSUPPLEMENTARY INFORMATION: This meeting will be open to the public up \nto the capacity of the meeting room. This meeting is also available \ntelephonically and by WebEx. You must use a touch-tone phone to \nparticipate in this meeting. Any interested person may dial the Toll \nNumber 1-517-308-9086 or Toll Free Number 888-989-0726 and then the \nnumeric passcode: 3899540\, followed by the # sign to participate in \nthis meeting by telephone on both days. NOTE: If dialing in\, please \n``mute'' your phone. To join via WebEx\, the link is https://nasa.webex.com/. \nThe meeting number on Wednesday\, August 29\, 2018\, is \n999 699 903 and the meeting password is 38NR3eC? (case sensitive). The \nmeeting number on Thursday\, August 30\, 2018\, is 994 724 844 and the \nmeeting password is 293ijRu* (case sensitive).\n    The agenda for the meeting will include reports from the following:\n\n--Aeronautics Committee\n--Human Exploration and Operations Committee\n--Science Committee\n--Technology\, Innovation and Engineering Committee\n--Ad Hoc Task Force on STEM Education\n\n    For NASA Ames Research Center visitor access\, please go through the \nMain Gate and show a valid government-issued identification (i.e.\, \ndriver's license\, passport\, etc.) to the security guard. Inform the \nsecurity guard that you are attending a meeting in Building 3. \nAttendees will also be required to sign a register prior to entering \nthe meeting room. It is imperative that the meeting be held on these \ndates to the scheduling priorities of the key participants.
URL:https://spacepolicyonline.com/events/nasa-advisory-council-nac-aug-29-30-2018-ames-research-center-ca-webex/
END:VEVENT
END:VCALENDAR