BEGIN:VCALENDAR
VERSION:2.0
PRODID:-//SpacePolicyOnline.com - ECPv6.15.11//NONSGML v1.0//EN
CALSCALE:GREGORIAN
METHOD:PUBLISH
X-WR-CALNAME:SpacePolicyOnline.com
X-ORIGINAL-URL:https://spacepolicyonline.com
X-WR-CALDESC:Events for SpacePolicyOnline.com
REFRESH-INTERVAL;VALUE=DURATION:PT1H
X-Robots-Tag:noindex
X-PUBLISHED-TTL:PT1H
BEGIN:VTIMEZONE
TZID:America/New_York
BEGIN:DAYLIGHT
TZOFFSETFROM:-0500
TZOFFSETTO:-0400
TZNAME:EDT
DTSTART:20210314T070000
END:DAYLIGHT
BEGIN:STANDARD
TZOFFSETFROM:-0400
TZOFFSETTO:-0500
TZNAME:EST
DTSTART:20211107T060000
END:STANDARD
BEGIN:DAYLIGHT
TZOFFSETFROM:-0500
TZOFFSETTO:-0400
TZNAME:EDT
DTSTART:20220313T070000
END:DAYLIGHT
BEGIN:STANDARD
TZOFFSETFROM:-0400
TZOFFSETTO:-0500
TZNAME:EST
DTSTART:20221106T060000
END:STANDARD
BEGIN:DAYLIGHT
TZOFFSETFROM:-0500
TZOFFSETTO:-0400
TZNAME:EDT
DTSTART:20230312T070000
END:DAYLIGHT
BEGIN:STANDARD
TZOFFSETFROM:-0400
TZOFFSETTO:-0500
TZNAME:EST
DTSTART:20231105T060000
END:STANDARD
END:VTIMEZONE
BEGIN:VEVENT
DTSTART;TZID=America/New_York:20220217T130000
DTEND;TZID=America/New_York:20220217T230000
DTSTAMP:20260419T235556
CREATED:20220203T153553Z
LAST-MODIFIED:20220203T153553Z
UID:50199-1645102800-1645138800@spacepolicyonline.com
SUMMARY:NASA ADVISORY COUNCIL STEM ENGAGEMENT COMMITTEE\, Feb 17\, 2022\, virtual\, 1:00-5:00 pm ET
DESCRIPTION:The Science\, Technology\, Engineering\, and Mathematics (STEM) Engagement Committee of the NASA Advisory Council (NAC) will meet virtually on February 17\, 2022 from 1:00-5:00 pm ET. \nMore information is in the Federal Register notice\, which is reproduced below: \nSUMMARY: In accordance with the Federal Advisory Committee Act\, Public \nLaw 92-463\, as amended\, the National Aeronautics and Space \nAdministration announces a meeting of the Science\, Technology\, \nEngineering and Mathematics (STEM) Engagement Committee of the NASA \nAdvisory Council (NAC). This Committee reports to the NAC.\n\nDATES: Thursday\, February 17\, 2021\, 1:00 p.m.-5:00 p.m.\, Eastern Time.\n\nADDRESSES: Virtual meeting by dial-in teleconference and WebEx only.\n\nFOR FURTHER INFORMATION CONTACT: Dr. Beverly Girten\, Designated Federal \nOfficer\, NAC STEM Engagement Committee\, NASA Headquarters\, Washington\, \nDC 20546\, (202) 358-0212\, or beverly.e.girten@nasa.gov.\n\nSUPPLEMENTARY INFORMATION: This meeting will be held virtually and will \nbe available telephonically and by WebEx only. You must use a touch \ntone phone to participate in this meeting. Any interested person may \ndial the toll-free access number 415-527-5035\, and then the access code \n2763 189 1436 followed by the # sign. To join via WebEx\, use link: \nhttps://nasaenterprise.webex.com/nasaenterprise/onstage/g.php?MTID=e8c794ada9b86b843b5b6596863ecbdd6 with meeting number and \naccess code 2763 189 1436 and password t2nNvj46M5$ (Password is case \nsensitive.) NOTE: If dialing in\, please ``mute'' your telephone. The \nagenda for the meeting will include the following:\n\n--Opening Remarks by Chair\n--STEM Engagement Update\, Goals and Strategy\n--Priorities for 2022\n--Review Earlier Findings and Recommendations to the NASA Advisory \nCouncil\n--Formulation of New Findings and Recommendations\n--Other Related Topics\n\n    It is imperative that the meeting be held on this date to \naccommodate the scheduling priorities of the key participants.
URL:https://spacepolicyonline.com/events/nasa-advisory-council-stem-engagement-committee-feb-17-2022-virtual-100-500-pm-et/
END:VEVENT
END:VCALENDAR