BEGIN:VCALENDAR
VERSION:2.0
PRODID:-//SpacePolicyOnline.com - ECPv6.15.11//NONSGML v1.0//EN
CALSCALE:GREGORIAN
METHOD:PUBLISH
X-WR-CALNAME:SpacePolicyOnline.com
X-ORIGINAL-URL:https://spacepolicyonline.com
X-WR-CALDESC:Events for SpacePolicyOnline.com
REFRESH-INTERVAL;VALUE=DURATION:PT1H
X-Robots-Tag:noindex
X-PUBLISHED-TTL:PT1H
BEGIN:VTIMEZONE
TZID:America/New_York
BEGIN:DAYLIGHT
TZOFFSETFROM:-0500
TZOFFSETTO:-0400
TZNAME:EDT
DTSTART:20180311T070000
END:DAYLIGHT
BEGIN:STANDARD
TZOFFSETFROM:-0400
TZOFFSETTO:-0500
TZNAME:EST
DTSTART:20181104T060000
END:STANDARD
BEGIN:DAYLIGHT
TZOFFSETFROM:-0500
TZOFFSETTO:-0400
TZNAME:EDT
DTSTART:20190310T070000
END:DAYLIGHT
BEGIN:STANDARD
TZOFFSETFROM:-0400
TZOFFSETTO:-0500
TZNAME:EST
DTSTART:20191103T060000
END:STANDARD
BEGIN:DAYLIGHT
TZOFFSETFROM:-0500
TZOFFSETTO:-0400
TZNAME:EDT
DTSTART:20200308T070000
END:DAYLIGHT
BEGIN:STANDARD
TZOFFSETFROM:-0400
TZOFFSETTO:-0500
TZNAME:EST
DTSTART:20201101T060000
END:STANDARD
END:VTIMEZONE
BEGIN:VEVENT
DTSTART;TZID=America/New_York:20190606T093000
DTEND;TZID=America/New_York:20190606T230000
DTSTAMP:20260420T152523
CREATED:20190518T151001Z
LAST-MODIFIED:20190518T151001Z
UID:26007-1559813400-1559862000@spacepolicyonline.com
SUMMARY:NASA AEROSPACE SAFETY ADVISORY PANEL (ASAP)\, June 6\, 2019\, DC\, 9:30-10:45 am ET
DESCRIPTION:NASA’s Aerospace Safety Advisory Panel (ASAP) will meet at NASA HQ in Washington\, DC\, with the public session of the meeting taking place on June 6\, 2019 from 9:30-10:45 am ET. \nAudio of the meeting will be available remotely by following the instructions in the Federal Register notice\, which is reproduced below. \nSUMMARY: In accordance with the Federal Advisory Committee Act\, as \namended\, the National Aeronautics and Space Administration announces a \nforthcoming meeting of the Aerospace Safety Advisory Panel.\n\nDATES: Thursday\, June 6\, 2019\, 9:30 a.m. to 10:45 a.m.\, Eastern Time.\n\nADDRESSES: NASA Headquarters\, Room 9H40\, 300 E Street SW\, Washington\, \nDC 20546.\n\nFOR FURTHER INFORMATION CONTACT:  Ms. Carol Hamilton\, Executive \nDirector\, Aerospace Safety Advisory Panel\, NASA Headquarters\, \nWashington\, DC 20546\, (202) 358-1857 or carol.j.hamilton@nasa.gov.\n\nSUPPLEMENTARY INFORMATION: The Aerospace Safety Advisory Panel (ASAP) \nwill hold its Third Quarterly Meeting for 2019. This discussion is \npursuant to carrying out its statutory duties for which the Panel \nreviews\, identifies\, evaluates\, and advises on those program \nactivities\, systems\, procedures\, and management activities that can \ncontribute to program risk. Priority is given to those programs that \ninvolve the safety of human flight. The agenda will include:\n\n--Updates on the Exploration Systems Development\n--Updates on the Commercial Crew Program\n--Updates on the International Space Station Program\n\n    The meeting will be open to the public up to the seating capacity \nof the room. Seating will be on a first-come basis. This meeting is \nalso available telephonically. Any interested person may call the USA \ntoll free conference call number 888-603-9074; pass code 7914309. \nAttendees will be requested to\nsign a register and to comply with NASA security requirements\, \nincluding the presentation of a valid picture ID before receiving \naccess to NASA Headquarters. Foreign nationals attending this meeting \nwill be required to provide a copy of their passport and visa in \naddition to providing the following information no less than 10 working \ndays prior to the meeting: Full name; gender; date/place of birth; \ncitizenship; visa information (number\, type\, expiration date); passport \ninformation (number\, country\, expiration date); employer/affiliation \ninformation (name of institution\, address\, country\, telephone); title/\nposition of attendee; and home address to Ms. Lisa Hackley via email at \nlisa.m.hackley@nasa.gov. To expedite admittance\, U.S. citizens and \nPermanent Residents (green card holders) are requested to provide full \nname and citizenship status no less than 3 working days prior to the \nmeeting to Ms. Lisa Hackley via email at lisa.m.hackley@nasa.gov. It is \nimperative that the meeting be held on this date to accommodate the \nscheduling priorities of the key participants.\n 
URL:https://spacepolicyonline.com/events/nasa-aerospace-safety-advisory-panel-asap-june-6-2019-dc-930-1045-am-et/
END:VEVENT
END:VCALENDAR