BEGIN:VCALENDAR
VERSION:2.0
PRODID:-//SpacePolicyOnline.com - ECPv6.15.11//NONSGML v1.0//EN
CALSCALE:GREGORIAN
METHOD:PUBLISH
X-WR-CALNAME:SpacePolicyOnline.com
X-ORIGINAL-URL:https://spacepolicyonline.com
X-WR-CALDESC:Events for SpacePolicyOnline.com
REFRESH-INTERVAL;VALUE=DURATION:PT1H
X-Robots-Tag:noindex
X-PUBLISHED-TTL:PT1H
BEGIN:VTIMEZONE
TZID:America/New_York
BEGIN:DAYLIGHT
TZOFFSETFROM:-0500
TZOFFSETTO:-0400
TZNAME:EDT
DTSTART:20180311T070000
END:DAYLIGHT
BEGIN:STANDARD
TZOFFSETFROM:-0400
TZOFFSETTO:-0500
TZNAME:EST
DTSTART:20181104T060000
END:STANDARD
BEGIN:DAYLIGHT
TZOFFSETFROM:-0500
TZOFFSETTO:-0400
TZNAME:EDT
DTSTART:20190310T070000
END:DAYLIGHT
BEGIN:STANDARD
TZOFFSETFROM:-0400
TZOFFSETTO:-0500
TZNAME:EST
DTSTART:20191103T060000
END:STANDARD
BEGIN:DAYLIGHT
TZOFFSETFROM:-0500
TZOFFSETTO:-0400
TZNAME:EDT
DTSTART:20200308T070000
END:DAYLIGHT
BEGIN:STANDARD
TZOFFSETFROM:-0400
TZOFFSETTO:-0500
TZNAME:EST
DTSTART:20201101T060000
END:STANDARD
END:VTIMEZONE
BEGIN:VEVENT
DTSTART;TZID=America/New_York:20190513T190000
DTEND;TZID=America/New_York:20190513T230000
DTSTAMP:20260423T010113
CREATED:20190513T222254Z
LAST-MODIFIED:20190513T222254Z
UID:25911-1557774000-1557788400@spacepolicyonline.com
SUMMARY:NASA ANNOUNCMENT ABOUT MOON 2024 BUDGET SUPPLEMENTAL\, May 13\, 2019\, virtual\, 7:00 pm ET
DESCRIPTION:NASA will hold a media teleconference at 7:00 pm ET (announced just an hour in advance) to discuss the budget supplemental that is being requested of Congress for FY2020 to begin paying for the goal to return astronauts to the surface of the Moon in 5 years (by 2024).  President Trump tweeted that the additional funds are $1.6 billion. \nThe teleconference will air on NASA Live.
URL:https://spacepolicyonline.com/events/nasa-announcment-about-moon-2024-budget-supplemental-may-13-2019-virtual-700-pm-et/
END:VEVENT
END:VCALENDAR