BEGIN:VCALENDAR
VERSION:2.0
PRODID:-//SpacePolicyOnline.com - ECPv6.15.11//NONSGML v1.0//EN
CALSCALE:GREGORIAN
METHOD:PUBLISH
X-WR-CALNAME:SpacePolicyOnline.com
X-ORIGINAL-URL:https://spacepolicyonline.com
X-WR-CALDESC:Events for SpacePolicyOnline.com
REFRESH-INTERVAL;VALUE=DURATION:PT1H
X-Robots-Tag:noindex
X-PUBLISHED-TTL:PT1H
BEGIN:VTIMEZONE
TZID:America/New_York
BEGIN:DAYLIGHT
TZOFFSETFROM:-0500
TZOFFSETTO:-0400
TZNAME:EDT
DTSTART:20200308T070000
END:DAYLIGHT
BEGIN:STANDARD
TZOFFSETFROM:-0400
TZOFFSETTO:-0500
TZNAME:EST
DTSTART:20201101T060000
END:STANDARD
BEGIN:DAYLIGHT
TZOFFSETFROM:-0500
TZOFFSETTO:-0400
TZNAME:EDT
DTSTART:20210314T070000
END:DAYLIGHT
BEGIN:STANDARD
TZOFFSETFROM:-0400
TZOFFSETTO:-0500
TZNAME:EST
DTSTART:20211107T060000
END:STANDARD
BEGIN:DAYLIGHT
TZOFFSETFROM:-0500
TZOFFSETTO:-0400
TZNAME:EDT
DTSTART:20220313T070000
END:DAYLIGHT
BEGIN:STANDARD
TZOFFSETFROM:-0400
TZOFFSETTO:-0500
TZNAME:EST
DTSTART:20221106T060000
END:STANDARD
END:VTIMEZONE
BEGIN:VEVENT
DTSTART;TZID=America/New_York:20211207T073000
DTEND;TZID=America/New_York:20211209T230000
DTSTAMP:20260420T102351
CREATED:20211203T214914Z
LAST-MODIFIED:20211203T214942Z
UID:48874-1638862200-1639090800@spacepolicyonline.com
SUMMARY:NASA APPLIED SCIENCES ADVISORY CMTE\, Dec 7-9\, 2021\, virtual\, 11:00 am ET
DESCRIPTION:NASA’s Applied Sciences Advisory Committee\, which reports to the Earth Science Division of the Science Mission Directorate\, will meet virtually from December 7-9\, 2021. The meeting begins at 11:00 am ET each day. \nMore information and the agenda are on the committee’s website.
URL:https://spacepolicyonline.com/events/nasa-applied-sciences-advisory-cmte-dec-7-9-2021-virtual-1100-am-et/
END:VEVENT
END:VCALENDAR