BEGIN:VCALENDAR
VERSION:2.0
PRODID:-//SpacePolicyOnline.com - ECPv6.15.11//NONSGML v1.0//EN
CALSCALE:GREGORIAN
METHOD:PUBLISH
X-WR-CALNAME:SpacePolicyOnline.com
X-ORIGINAL-URL:https://spacepolicyonline.com
X-WR-CALDESC:Events for SpacePolicyOnline.com
REFRESH-INTERVAL;VALUE=DURATION:PT1H
X-Robots-Tag:noindex
X-PUBLISHED-TTL:PT1H
BEGIN:VTIMEZONE
TZID:America/New_York
BEGIN:DAYLIGHT
TZOFFSETFROM:-0500
TZOFFSETTO:-0400
TZNAME:EDT
DTSTART:20220313T070000
END:DAYLIGHT
BEGIN:STANDARD
TZOFFSETFROM:-0400
TZOFFSETTO:-0500
TZNAME:EST
DTSTART:20221106T060000
END:STANDARD
BEGIN:DAYLIGHT
TZOFFSETFROM:-0500
TZOFFSETTO:-0400
TZNAME:EDT
DTSTART:20230312T070000
END:DAYLIGHT
BEGIN:STANDARD
TZOFFSETFROM:-0400
TZOFFSETTO:-0500
TZNAME:EST
DTSTART:20231105T060000
END:STANDARD
BEGIN:DAYLIGHT
TZOFFSETFROM:-0500
TZOFFSETTO:-0400
TZNAME:EDT
DTSTART:20240310T070000
END:DAYLIGHT
BEGIN:STANDARD
TZOFFSETFROM:-0400
TZOFFSETTO:-0500
TZNAME:EST
DTSTART:20241103T060000
END:STANDARD
END:VTIMEZONE
BEGIN:VEVENT
DTSTART;TZID=America/New_York:20230627T070000
DTEND;TZID=America/New_York:20230628T230000
DTSTAMP:20260425T234802
CREATED:20230610T210402Z
LAST-MODIFIED:20230627T113227Z
UID:62752-1687849200-1687993200@spacepolicyonline.com
SUMMARY:NASA ASTROPHYSICS ADVISORY CMTE\, June 27-28\, 2023\, virtual
DESCRIPTION:The agenda is now posted. \n  \nNASA’s Astrophysics Advisory Committee will meet virtually from June 27-28\, 2023. The meeting on June 27 is 9:00 am-5:00 pm ET and on June 28 is 9:00 am – 4:00 pm ET. \nMore information is in the Federal Register notice\, which is reproduced below. \nSUMMARY: In accordance with the Federal Advisory Committee Act\, Public \nLaw 92-463\, as amended\, the National Aeronautics and Space \nAdministration (NASA) announces a meeting of the Astrophysics Advisory \nCommittee. This Committee reports to the Director\, Astrophysics \nDivision\, Science Mission Directorate\, NASA Headquarters. The meeting \nwill be held for the purpose of soliciting\, from the scientific \ncommunity and other persons\, scientific and technical information \nrelevant to program planning.\n\nDATES: Tuesday\, June 27\, 2023\, 9:00 a.m.-5:00 p.m.; and Wednesday\, June \n28\, 2023\, 9:00 a.m.-4:00 p.m.\, Eastern Time.\n\nADDRESSES: Public attendance will be virtual only. See dial-in and \nWebex information below under SUPPLEMENTARY INFORMATION.\n\nFOR FURTHER INFORMATION CONTACT: Ms. KarShelia Kinard\, Science Mission \nDirectorate\, NASA Headquarters\, Washington\, DC 20546\, (202) 358-2355 or \nkarshelia.kinard@nasa.gov.\n\nSUPPLEMENTARY INFORMATION: As noted above\, this meeting is virtual and \nwill take place telephonically and via Webex. Any interested person \nmust use a touch-tone phone to participate in this meeting. The Webex \nconnectivity information for each day is provided below. For audio\, \nwhen you join the Webex event\, you may use your computer or provide \nyour phone number to receive a call back\, otherwise\, call the U.S. toll \nconference number listed for each day.\n    For Tuesday\, June 27\, 2023\, the Webex information for attendees is: \nhttps://nasaenterprise.webex.com/nasaenterprise/j.php?MTID=mb4eacdf8d0f56486c3820df59ee404d8. \nThe meeting number is: \n2760 200 7429 and the meeting password is: Apac0627#. To join by \ntelephone\, the toll numbers are 1-929-251-9612 or 1-415-527-5035. \n(Access Code: 2760 200 7429).\n    For Wednesday\, June 28\, 2023\, the Webex information for attendees \nis: https://nasaenterprise.webex.com/nasaenterprise/j.php?MTID=m52b6f2aee09de4b09e2fbe95d0f67908. \nThe meeting number is: \n2762 839 1662 and the meeting password is: Apac0628#. To join by \ntelephone\, the toll numbers are 1-929-251-9612 or 1-415-527-5035. \n(Access Code: 2762 839 1662).\n    The agenda for the meeting includes the following topics:\n\n--Astrophysics Division Update\n--Updates on Specific Astrophysics Missions\n--Discussion of Reports from the Program Analysis Groups\n\n    The agenda and Program Analysis Group presentations will be posted \non the Astrophysics Advisory Committee web page: \nhttps://science.nasa.gov/researchers/nac/science-advisory-committees/apac.\n    The public may submit and upvote comments/questions ahead of the \nmeeting through the website: APAC Summer Meeting--NASA (cnf.io)\, that \nwill be opened for input on June 12\, 2023. It is imperative that the \nmeeting be held on these dates to accommodate the scheduling priorities \nof the key participants.
URL:https://spacepolicyonline.com/events/nasa-astrophysics-advisory-cmte-june-27-28-2023-virtual/
END:VEVENT
END:VCALENDAR