BEGIN:VCALENDAR
VERSION:2.0
PRODID:-//SpacePolicyOnline.com - ECPv6.15.11//NONSGML v1.0//EN
CALSCALE:GREGORIAN
METHOD:PUBLISH
X-WR-CALNAME:SpacePolicyOnline.com
X-ORIGINAL-URL:https://spacepolicyonline.com
X-WR-CALDESC:Events for SpacePolicyOnline.com
REFRESH-INTERVAL;VALUE=DURATION:PT1H
X-Robots-Tag:noindex
X-PUBLISHED-TTL:PT1H
BEGIN:VTIMEZONE
TZID:America/New_York
BEGIN:DAYLIGHT
TZOFFSETFROM:-0500
TZOFFSETTO:-0400
TZNAME:EDT
DTSTART:20210314T070000
END:DAYLIGHT
BEGIN:STANDARD
TZOFFSETFROM:-0400
TZOFFSETTO:-0500
TZNAME:EST
DTSTART:20211107T060000
END:STANDARD
BEGIN:DAYLIGHT
TZOFFSETFROM:-0500
TZOFFSETTO:-0400
TZNAME:EDT
DTSTART:20220313T070000
END:DAYLIGHT
BEGIN:STANDARD
TZOFFSETFROM:-0400
TZOFFSETTO:-0500
TZNAME:EST
DTSTART:20221106T060000
END:STANDARD
BEGIN:DAYLIGHT
TZOFFSETFROM:-0500
TZOFFSETTO:-0400
TZNAME:EDT
DTSTART:20230312T070000
END:DAYLIGHT
BEGIN:STANDARD
TZOFFSETFROM:-0400
TZOFFSETTO:-0500
TZNAME:EST
DTSTART:20231105T060000
END:STANDARD
END:VTIMEZONE
BEGIN:VEVENT
DTSTART;TZID=America/New_York:20220713T150000
DTEND;TZID=America/New_York:20220713T230000
DTSTAMP:20260425T192305
CREATED:20220604T122924Z
LAST-MODIFIED:20220713T180333Z
UID:53875-1657724400-1657753200@spacepolicyonline.com
SUMMARY:NASA BFG ON CLIMATE EXPERIMENT ON SPX-25 CARGO LAUNCH TO ISS\, July 13\, 2022\, KSC\, 2:00 pm ET
DESCRIPTION:Update\, July 13: The time for this briefing has changed to 2:00 pm ET (instead of 3:00 pm ET) today. \nUpdate\, July 8:  The launch has been rescheduled for July 14 at 8:44 pm ET. \nThis pre-launch science briefing on the climate experiment is now scheduled for July 13 at 3:00 pm ET. Participants are: \n\nKate Calvin\, NASA chief scientist and climate advisor\nHeidi Parris\, associate scientist\, International Space Station Program\, NASA\nMike Roberts\, chief scientist\, ISS National Lab\nRob Green\, JPL senior research scientist and EMIT principal investigator\nPaula do Vale Pereira\, BeaverCube\, Massachusetts Institute of Technology\n\nIt will air NASA Television\, the NASA app\, and the agency’s website. \nSee our separate calendar entries for the pre-launch briefing\, launch\, post-launch briefing\, and docking. \nUpdate\, June 6:  The launch has been postponed. \nOriginal Entry: One of the experiments that will be launched to the ISS on the SpaceX-25 cargo mission is the Earth Surface Mineral Dust Source Investigation (EMIT). \nOn June 9\, the day before the SpX-25 launch\, at 2:00 pm ET\, NASA will hold a “climate conversation” briefing at Kennedy Space Center to discuss the experiment. Participants are: \n\nKate Calvin\, NASA chief scientist and climate advisor\nDr. Kirt Costello\, chief scientist\, International Space Station Program\, NASA\nNatalie Mahowald\, EMIT deputy principal investigator and professor of atmospheric science\, Cornell University\nPaula do Vale Pereira\, BeaverCube\, Massachusetts Institute of Technology\n\nIt will air on NASA Television\, the NASA app\, and the agency’s website.
URL:https://spacepolicyonline.com/events/nasa-bfg-on-climate-experiment-on-spx-25-cargo-launch-to-iss-june-9-2022-ksc-200-pm-et/
END:VEVENT
END:VCALENDAR