BEGIN:VCALENDAR
VERSION:2.0
PRODID:-//SpacePolicyOnline.com - ECPv6.15.11//NONSGML v1.0//EN
CALSCALE:GREGORIAN
METHOD:PUBLISH
X-WR-CALNAME:SpacePolicyOnline.com
X-ORIGINAL-URL:https://spacepolicyonline.com
X-WR-CALDESC:Events for SpacePolicyOnline.com
REFRESH-INTERVAL;VALUE=DURATION:PT1H
X-Robots-Tag:noindex
X-PUBLISHED-TTL:PT1H
BEGIN:VTIMEZONE
TZID:America/New_York
BEGIN:DAYLIGHT
TZOFFSETFROM:-0500
TZOFFSETTO:-0400
TZNAME:EDT
DTSTART:20200308T070000
END:DAYLIGHT
BEGIN:STANDARD
TZOFFSETFROM:-0400
TZOFFSETTO:-0500
TZNAME:EST
DTSTART:20201101T060000
END:STANDARD
BEGIN:DAYLIGHT
TZOFFSETFROM:-0500
TZOFFSETTO:-0400
TZNAME:EDT
DTSTART:20210314T070000
END:DAYLIGHT
BEGIN:STANDARD
TZOFFSETFROM:-0400
TZOFFSETTO:-0500
TZNAME:EST
DTSTART:20211107T060000
END:STANDARD
BEGIN:DAYLIGHT
TZOFFSETFROM:-0500
TZOFFSETTO:-0400
TZNAME:EDT
DTSTART:20220313T070000
END:DAYLIGHT
BEGIN:STANDARD
TZOFFSETFROM:-0400
TZOFFSETTO:-0500
TZNAME:EST
DTSTART:20221106T060000
END:STANDARD
END:VTIMEZONE
BEGIN:VEVENT
DTSTART;TZID=America/New_York:20210323T133000
DTEND;TZID=America/New_York:20210323T230000
DTSTAMP:20260420T024444
CREATED:20210317T193247Z
LAST-MODIFIED:20210317T193247Z
UID:42372-1616506200-1616540400@spacepolicyonline.com
SUMMARY:NASA BFG ON PREPS FOR 1ST FLIGHT OF INGENUITY HELICOPTER ON MARS\, Mar 23\, 2021\, virtual\, 1:30 pm ET
DESCRIPTION:NASA will hold a briefing on March 23\, 2021 at 1:30 pm ET to discuss preparations for the first flight of the Ingenuity helicopter on Mars. Ingenuity arrived on Mars stowed in the “belly” of the Perseverance rover. \nThe first flight will take place no earlier than the first week of April. \nParticipants in the March 23 briefing are: \n\nLori Glaze\, director of NASA’s Planetary Science Division\, NASA Headquarters\nBobby Braun\, director for planetary science\, JPL\nJ. (Bob) Balaram\, Ingenuity chief engineer\, JPL\nHåvard Grip\, Ingenuity chief pilot\, JPL\nFarah Alibay\, Perseverance integration lead for Ingenuity\, JPL\n\nThe briefing will air live on NASA Television\, the NASA app\, and the agency’s website and will livestream on multiple agency social media platforms\, including the YouTube and Facebook channels for NASA’s Jet Propulsion Laboratory in Southern California.
URL:https://spacepolicyonline.com/events/nasa-bfg-on-preps-for-1st-flight-of-ingenuity-helicopter-on-mars-mar-23-2021-virtual-130-pm-et/
END:VEVENT
END:VCALENDAR