BEGIN:VCALENDAR
VERSION:2.0
PRODID:-//SpacePolicyOnline.com - ECPv6.15.11//NONSGML v1.0//EN
CALSCALE:GREGORIAN
METHOD:PUBLISH
X-WR-CALNAME:SpacePolicyOnline.com
X-ORIGINAL-URL:https://spacepolicyonline.com
X-WR-CALDESC:Events for SpacePolicyOnline.com
REFRESH-INTERVAL;VALUE=DURATION:PT1H
X-Robots-Tag:noindex
X-PUBLISHED-TTL:PT1H
BEGIN:VTIMEZONE
TZID:America/New_York
BEGIN:DAYLIGHT
TZOFFSETFROM:-0500
TZOFFSETTO:-0400
TZNAME:EDT
DTSTART:20220313T070000
END:DAYLIGHT
BEGIN:STANDARD
TZOFFSETFROM:-0400
TZOFFSETTO:-0500
TZNAME:EST
DTSTART:20221106T060000
END:STANDARD
BEGIN:DAYLIGHT
TZOFFSETFROM:-0500
TZOFFSETTO:-0400
TZNAME:EDT
DTSTART:20230312T070000
END:DAYLIGHT
BEGIN:STANDARD
TZOFFSETFROM:-0400
TZOFFSETTO:-0500
TZNAME:EST
DTSTART:20231105T060000
END:STANDARD
BEGIN:DAYLIGHT
TZOFFSETFROM:-0500
TZOFFSETTO:-0400
TZNAME:EDT
DTSTART:20240310T070000
END:DAYLIGHT
BEGIN:STANDARD
TZOFFSETFROM:-0400
TZOFFSETTO:-0500
TZNAME:EST
DTSTART:20241103T060000
END:STANDARD
END:VTIMEZONE
BEGIN:VEVENT
DTSTART;TZID=America/New_York:20230601T170000
DTEND;TZID=America/New_York:20230601T230000
DTSTAMP:20260421T075525
CREATED:20230601T192738Z
LAST-MODIFIED:20230601T194848Z
UID:62541-1685638800-1685660400@spacepolicyonline.com
SUMMARY:NASA/BOEING UPDATE ON STARLINER CREW FLIGHT TEST\, June 1\, 2023\, virtual\, 5:00 pm ET
DESCRIPTION:Update\, 3:50 pm ET:  They just changed the time to 5:00 pm ET. \nOriginal Entry: At 3:00 pm ET today (June 1. 2023)\, NASA and Boeing announced they would hold a media telecon at 4:30 pm ET this afternoon with an update on the Crew Flight Test of Boeing’s Starliner commercial crew spacecraft. The launch is currently targeted for July 21. \nParticipants in the telecon are: \n\nSteve Stich\, manager\, NASA’s Commercial Crew Program\nJoel Montalbano\, manager\, NASA’s International Space Station Program\nMark Nappi\, vice president and program manager\, CST-100 Starliner\, Boeing\n\nThe telecon will be livestreamed on NASA Live. \nLast week\, NASA’s Aerospace Safety Advisory Panel urged NASA to conduct an independent review of Starliner before launching CFT.  NASA and Boeing issued a blog postthe next day saying Starliner will launch only when ready\, but did not directly address the ASAP report.
URL:https://spacepolicyonline.com/events/nasa-boeing-update-on-starliner-crew-flight-test-june-1-2023-virtual-430-pm-et/
END:VEVENT
END:VCALENDAR