BEGIN:VCALENDAR
VERSION:2.0
PRODID:-//SpacePolicyOnline.com - ECPv6.15.11//NONSGML v1.0//EN
CALSCALE:GREGORIAN
METHOD:PUBLISH
X-WR-CALNAME:SpacePolicyOnline.com
X-ORIGINAL-URL:https://spacepolicyonline.com
X-WR-CALDESC:Events for SpacePolicyOnline.com
REFRESH-INTERVAL;VALUE=DURATION:PT1H
X-Robots-Tag:noindex
X-PUBLISHED-TTL:PT1H
BEGIN:VTIMEZONE
TZID:America/New_York
BEGIN:DAYLIGHT
TZOFFSETFROM:-0500
TZOFFSETTO:-0400
TZNAME:EDT
DTSTART:20210314T070000
END:DAYLIGHT
BEGIN:STANDARD
TZOFFSETFROM:-0400
TZOFFSETTO:-0500
TZNAME:EST
DTSTART:20211107T060000
END:STANDARD
BEGIN:DAYLIGHT
TZOFFSETFROM:-0500
TZOFFSETTO:-0400
TZNAME:EDT
DTSTART:20220313T070000
END:DAYLIGHT
BEGIN:STANDARD
TZOFFSETFROM:-0400
TZOFFSETTO:-0500
TZNAME:EST
DTSTART:20221106T060000
END:STANDARD
BEGIN:DAYLIGHT
TZOFFSETFROM:-0500
TZOFFSETTO:-0400
TZNAME:EDT
DTSTART:20230312T070000
END:DAYLIGHT
BEGIN:STANDARD
TZOFFSETFROM:-0400
TZOFFSETTO:-0500
TZNAME:EST
DTSTART:20231105T060000
END:STANDARD
END:VTIMEZONE
BEGIN:VEVENT
DTSTART;TZID=America/New_York:20221027T140000
DTEND;TZID=America/New_York:20221027T230000
DTSTAMP:20260424T052652
CREATED:20221023T161730Z
LAST-MODIFIED:20221023T161730Z
UID:57195-1666879200-1666911600@spacepolicyonline.com
SUMMARY:NASA BRIEFING ON INSIGHT & MARS RECONNAISSANCE ORBITER FINDINGS\, Oct 27\, 2022\, virtual\, 2:00 pm ET
DESCRIPTION:NASA will hold a virtual briefing on October 27\, 2022 at 2:00 pm ET to discuss new scientific findings based on observations from NASA’s InSight Mars lander and the Mars Reconnaissance Orbiter. \nThe briefing will air on NASA TV\, the NASA App and NASA Live. \nParticipants are: \n\nLori Glaze\, director of NASA’s Planetary Science Division\, NASA Headquarters\nBruce Banerdt\, InSight principal investigator\, NASA’s Jet Propulsion Laboratory in Southern California\nLiliya Posiolova\, MRO\, orbital science operations lead at Malin Space Science Systems\, San Diego\, California\nIngrid Daubar\, InSight impact science lead\, Brown University\, Providence\, Rhode Island\n\n  \n 
URL:https://spacepolicyonline.com/events/nasa-briefing-on-insight-mars-reconnaissance-orbiter-findings-oct-27-2022-virtual-200-pm-et/
END:VEVENT
END:VCALENDAR