BEGIN:VCALENDAR
VERSION:2.0
PRODID:-//SpacePolicyOnline.com - ECPv6.15.11//NONSGML v1.0//EN
CALSCALE:GREGORIAN
METHOD:PUBLISH
X-WR-CALNAME:SpacePolicyOnline.com
X-ORIGINAL-URL:https://spacepolicyonline.com
X-WR-CALDESC:Events for SpacePolicyOnline.com
REFRESH-INTERVAL;VALUE=DURATION:PT1H
X-Robots-Tag:noindex
X-PUBLISHED-TTL:PT1H
BEGIN:VTIMEZONE
TZID:America/New_York
BEGIN:DAYLIGHT
TZOFFSETFROM:-0500
TZOFFSETTO:-0400
TZNAME:EDT
DTSTART:20230312T070000
END:DAYLIGHT
BEGIN:STANDARD
TZOFFSETFROM:-0400
TZOFFSETTO:-0500
TZNAME:EST
DTSTART:20231105T060000
END:STANDARD
BEGIN:DAYLIGHT
TZOFFSETFROM:-0500
TZOFFSETTO:-0400
TZNAME:EDT
DTSTART:20240310T070000
END:DAYLIGHT
BEGIN:STANDARD
TZOFFSETFROM:-0400
TZOFFSETTO:-0500
TZNAME:EST
DTSTART:20241103T060000
END:STANDARD
BEGIN:DAYLIGHT
TZOFFSETFROM:-0500
TZOFFSETTO:-0400
TZNAME:EDT
DTSTART:20250309T070000
END:DAYLIGHT
BEGIN:STANDARD
TZOFFSETFROM:-0400
TZOFFSETTO:-0500
TZNAME:EST
DTSTART:20251102T060000
END:STANDARD
END:VTIMEZONE
BEGIN:VEVENT
DTSTART;TZID=America/New_York:20240125T130000
DTEND;TZID=America/New_York:20240125T230000
DTSTAMP:20260420T000655
CREATED:20240113T192932Z
LAST-MODIFIED:20240125T180121Z
UID:67956-1706187600-1706223600@spacepolicyonline.com
SUMMARY:NASA BRIEFINGS FOR CREW-8 MISSION\, Jan 25\, 2024\, JSC\, 1:00 and 2:30 pm ET
DESCRIPTION:Update\, January 25:  Participants in the first briefing are: \n\nSteve Stich\, manager\, Commercial Crew Program\, NASA Johnson\nJoel Montalbano\, manager\, International Space Station Program\, NASA Johnson\nSarah Walker\, director\, Dragon Mission Management\, SpaceX\nSergei Krikalev\, executive director\, Human Space Flight Programs\, Roscosmos\n\nParticipants in the second briefing are the four Crew-8 astronuuts plus NASA astronaut Tracy Dyson who will launch to ISS on Soyuz MS-25 in March. \nOriginal Entry: NASA will hold two briefings on January 25\, 2024 from Johnson Space Center to discuss the upcoming Crew-8 mission to the International Space Station. Launch is targeted for mid-February. \nThe briefings at 1:00 pm and 2:30 pm ET are posted on the NASA TV schedule as of January 13\, but details have not been published. \n \nTypically the first briefing is with agency officials. The second is with the crew. The four professional astronauts on this mission are \n\nMatthew Dominick (NASA)\, commander\nMichael Barrat (NASA)\, pilot\nJeanette Epps (NASA)\, mission specialist\nAleksandr Grebenkin (Roscosmos)\, mission specialist\n\nNASA/SpaceX Crew-8\, L-R: Aleksandr Grebenkin (Roscosmos)\, Michael Barratt (NASA)\, Matthew Dominick (NASA)\, Jeanette Epps (NASA). Photo credits: Bill Stafford and Josh Calcarcel
URL:https://spacepolicyonline.com/events/nasa-briefings-for-crew-8-mission-jan-25-2024-jsc-100-and-230-pm-et/
END:VEVENT
END:VCALENDAR