BEGIN:VCALENDAR
VERSION:2.0
PRODID:-//SpacePolicyOnline.com - ECPv6.15.11//NONSGML v1.0//EN
CALSCALE:GREGORIAN
METHOD:PUBLISH
X-WR-CALNAME:SpacePolicyOnline.com
X-ORIGINAL-URL:https://spacepolicyonline.com
X-WR-CALDESC:Events for SpacePolicyOnline.com
REFRESH-INTERVAL;VALUE=DURATION:PT1H
X-Robots-Tag:noindex
X-PUBLISHED-TTL:PT1H
BEGIN:VTIMEZONE
TZID:America/New_York
BEGIN:DAYLIGHT
TZOFFSETFROM:-0500
TZOFFSETTO:-0400
TZNAME:EDT
DTSTART:20240310T070000
END:DAYLIGHT
BEGIN:STANDARD
TZOFFSETFROM:-0400
TZOFFSETTO:-0500
TZNAME:EST
DTSTART:20241103T060000
END:STANDARD
BEGIN:DAYLIGHT
TZOFFSETFROM:-0500
TZOFFSETTO:-0400
TZNAME:EDT
DTSTART:20250309T070000
END:DAYLIGHT
BEGIN:STANDARD
TZOFFSETFROM:-0400
TZOFFSETTO:-0500
TZNAME:EST
DTSTART:20251102T060000
END:STANDARD
BEGIN:DAYLIGHT
TZOFFSETFROM:-0500
TZOFFSETTO:-0400
TZNAME:EDT
DTSTART:20260308T070000
END:DAYLIGHT
BEGIN:STANDARD
TZOFFSETFROM:-0400
TZOFFSETTO:-0500
TZNAME:EST
DTSTART:20261101T060000
END:STANDARD
END:VTIMEZONE
BEGIN:VEVENT
DTSTART;TZID=America/New_York:20250112T090000
DTEND;TZID=America/New_York:20250112T230000
DTSTAMP:20260420T074650
CREATED:20241229T200449Z
LAST-MODIFIED:20241229T200449Z
UID:76917-1736672400-1736722800@spacepolicyonline.com
SUMMARY:NASA COPAG\, Jan 12\, 2025\, National Harbor\, MD\, 9:00 am-4:00 pm ET
DESCRIPTION:NASA’s Cosmic Origins Program Analysis Group (COPAG) will meet on January 12\, 2025 from 9:00 am-4:00 pm ET in conjunction with the  American Astronomical Society’s Winter Meeting in National Harbor\, MD. \nMore information is on the event’s website.  Part of the meeting in joint with other PAGs.
URL:https://spacepolicyonline.com/events/nasa-copag-jan-12-2025-national-harbor-md-900-am-400-pm-et/
END:VEVENT
END:VCALENDAR