BEGIN:VCALENDAR
VERSION:2.0
PRODID:-//SpacePolicyOnline.com - ECPv6.15.11//NONSGML v1.0//EN
CALSCALE:GREGORIAN
METHOD:PUBLISH
X-WR-CALNAME:SpacePolicyOnline.com
X-ORIGINAL-URL:https://spacepolicyonline.com
X-WR-CALDESC:Events for SpacePolicyOnline.com
REFRESH-INTERVAL;VALUE=DURATION:PT1H
X-Robots-Tag:noindex
X-PUBLISHED-TTL:PT1H
BEGIN:VTIMEZONE
TZID:America/New_York
BEGIN:DAYLIGHT
TZOFFSETFROM:-0500
TZOFFSETTO:-0400
TZNAME:EDT
DTSTART:20200308T070000
END:DAYLIGHT
BEGIN:STANDARD
TZOFFSETFROM:-0400
TZOFFSETTO:-0500
TZNAME:EST
DTSTART:20201101T060000
END:STANDARD
BEGIN:DAYLIGHT
TZOFFSETFROM:-0500
TZOFFSETTO:-0400
TZNAME:EDT
DTSTART:20210314T070000
END:DAYLIGHT
BEGIN:STANDARD
TZOFFSETFROM:-0400
TZOFFSETTO:-0500
TZNAME:EST
DTSTART:20211107T060000
END:STANDARD
BEGIN:DAYLIGHT
TZOFFSETFROM:-0500
TZOFFSETTO:-0400
TZNAME:EDT
DTSTART:20220313T070000
END:DAYLIGHT
BEGIN:STANDARD
TZOFFSETFROM:-0400
TZOFFSETTO:-0500
TZNAME:EST
DTSTART:20221106T060000
END:STANDARD
END:VTIMEZONE
BEGIN:VEVENT
DTSTART;TZID=America/New_York:20211007T140000
DTEND;TZID=America/New_York:20211007T230000
DTSTAMP:20260420T223606
CREATED:20211001T033128Z
LAST-MODIFIED:20211001T033128Z
UID:47052-1633615200-1633647600@spacepolicyonline.com
SUMMARY:NASA CREW-3 PRESS CONFERENCE\, Oct 7\, 2021\, virtual\, 2:00 pm ET
DESCRIPTION:NASA will hold two media briefings on the upcoming Crew-3 mission to the International Space Station (ISS) on October 6 and October 7\, 2021. Both are virtual and will air live on NASA Television\, the NASA app\, and the agency’s website. \nThe October 7 briefing is with the crew: \n\nRaja Chari\, spacecraft commander (NASA)\nTom Marshburn\, pilot (NASA)\nKayla Barron\, mission specialist (NASA)\nMatthias Maurer\, mission specialist (ESA)\n\nCrew-3 is now scheduled for launch on October 30\, a day earlier than originally planned. \n 
URL:https://spacepolicyonline.com/events/nasa-crew-3-press-conference-oct-7-2021-virtual-200-pm-et/
END:VEVENT
END:VCALENDAR