BEGIN:VCALENDAR
VERSION:2.0
PRODID:-//SpacePolicyOnline.com - ECPv6.15.11//NONSGML v1.0//EN
CALSCALE:GREGORIAN
METHOD:PUBLISH
X-WR-CALNAME:SpacePolicyOnline.com
X-ORIGINAL-URL:https://spacepolicyonline.com
X-WR-CALDESC:Events for SpacePolicyOnline.com
REFRESH-INTERVAL;VALUE=DURATION:PT1H
X-Robots-Tag:noindex
X-PUBLISHED-TTL:PT1H
BEGIN:VTIMEZONE
TZID:America/New_York
BEGIN:DAYLIGHT
TZOFFSETFROM:-0500
TZOFFSETTO:-0400
TZNAME:EDT
DTSTART:20210314T070000
END:DAYLIGHT
BEGIN:STANDARD
TZOFFSETFROM:-0400
TZOFFSETTO:-0500
TZNAME:EST
DTSTART:20211107T060000
END:STANDARD
BEGIN:DAYLIGHT
TZOFFSETFROM:-0500
TZOFFSETTO:-0400
TZNAME:EDT
DTSTART:20220313T070000
END:DAYLIGHT
BEGIN:STANDARD
TZOFFSETFROM:-0400
TZOFFSETTO:-0500
TZNAME:EST
DTSTART:20221106T060000
END:STANDARD
BEGIN:DAYLIGHT
TZOFFSETFROM:-0500
TZOFFSETTO:-0400
TZNAME:EDT
DTSTART:20230312T070000
END:DAYLIGHT
BEGIN:STANDARD
TZOFFSETFROM:-0400
TZOFFSETTO:-0500
TZNAME:EST
DTSTART:20231105T060000
END:STANDARD
END:VTIMEZONE
BEGIN:VEVENT
DTSTART;TZID=America/New_York:20221024T123000
DTEND;TZID=America/New_York:20221024T230000
DTSTAMP:20260423T214354
CREATED:20221015T214614Z
LAST-MODIFIED:20221015T214614Z
UID:57019-1666614600-1666652400@spacepolicyonline.com
SUMMARY:NASA EARTH SCIENCE ADV COMMITTEE\, Oct 24\, 2022\, virtual\, 12:30-1:30 pm ET
DESCRIPTION:NASA’s Earth Science Advisory Committee will meet virtually on October 24\, 2022 from 12:30-1:30 pm ET. The sole agenda item is “Earth Science Program Annual Performance Review According to the Government Performance and Results Act Modernization Act.” \nThe meeting is available to the public telephonically. \nMore information is in the Federal Register notice\, which is reproduced below. \nSUMMARY:  In accordance with the Federal Advisory Committee Act\, Public \nLaw 92-463\, as amended\, the National Aeronautics and Space \nAdministration (NASA) announces a meeting of the Earth Science Advisory \nCommittee (ESAC). This Committee functions in an advisory capacity to \nthe Director\, Earth Science Division\, in the NASA Science Mission \nDirectorate. The meeting will be held for the purpose of soliciting\, \nfrom the science community and other persons\, scientific and technical \ninformation relevant to program planning.\n\nDATES: Monday\, October 24\, 2022\, 12:30 p.m.-1:30 p.m.\, Eastern Time.\n\nFOR FURTHER INFORMATION CONTACT: KarShelia Kinard\, Science Mission \nDirectorate\, NASA Headquarters\, Washington\, DC 20546\, (202) 358-2355 or \nkarshelia.kinard@nasa.gov.\n\nSUPPLEMENTARY INFORMATION: This meeting will be open to the public \ntelephonically. You must use a touch-tone phone to participate in this \nmeeting. Any interested person may dial the USA US toll free number 1-\n888-381-5773\, passcode: 9664949\, to participate in this meeting by \ntelephone.\n    The agenda for the meeting includes the following topic:\n\n--Earth Science Program Annual Performance Review According to the \nGovernment Performance and Results Act Modernization Act.\n\n    It is imperative that the meeting be held on this date to \naccommodate the\n\n[[Page 62892]]\n\nscheduling priorities of the key participants
URL:https://spacepolicyonline.com/events/nasa-earth-science-adv-committee-oct-24-2022-virtual-1230-130-pm-et/
END:VEVENT
END:VCALENDAR