BEGIN:VCALENDAR
VERSION:2.0
PRODID:-//SpacePolicyOnline.com - ECPv6.15.11//NONSGML v1.0//EN
CALSCALE:GREGORIAN
METHOD:PUBLISH
X-WR-CALNAME:SpacePolicyOnline.com
X-ORIGINAL-URL:https://spacepolicyonline.com
X-WR-CALDESC:Events for SpacePolicyOnline.com
REFRESH-INTERVAL;VALUE=DURATION:PT1H
X-Robots-Tag:noindex
X-PUBLISHED-TTL:PT1H
BEGIN:VTIMEZONE
TZID:America/New_York
BEGIN:DAYLIGHT
TZOFFSETFROM:-0500
TZOFFSETTO:-0400
TZNAME:EDT
DTSTART:20210314T070000
END:DAYLIGHT
BEGIN:STANDARD
TZOFFSETFROM:-0400
TZOFFSETTO:-0500
TZNAME:EST
DTSTART:20211107T060000
END:STANDARD
BEGIN:DAYLIGHT
TZOFFSETFROM:-0500
TZOFFSETTO:-0400
TZNAME:EDT
DTSTART:20220313T070000
END:DAYLIGHT
BEGIN:STANDARD
TZOFFSETFROM:-0400
TZOFFSETTO:-0500
TZNAME:EST
DTSTART:20221106T060000
END:STANDARD
BEGIN:DAYLIGHT
TZOFFSETFROM:-0500
TZOFFSETTO:-0400
TZNAME:EDT
DTSTART:20230312T070000
END:DAYLIGHT
BEGIN:STANDARD
TZOFFSETFROM:-0400
TZOFFSETTO:-0500
TZNAME:EST
DTSTART:20231105T060000
END:STANDARD
END:VTIMEZONE
BEGIN:VEVENT
DTSTART;TZID=America/New_York:20220802T070000
DTEND;TZID=America/New_York:20220803T230000
DTSTAMP:20260424T153331
CREATED:20220707T153057Z
LAST-MODIFIED:20220707T153057Z
UID:54620-1659423600-1659567600@spacepolicyonline.com
SUMMARY:NASA EARTH SCIENCE ADVISORY COMMITTEE\, Aug 2-3\, 2022\, DC
DESCRIPTION:NASA’s Earth Science Advisory Committee will meet at NASA HQ in Washington\, DC on August 2-3\, 2022. The meeting on August 2 is 8:30 am – 5:00 pm ET and on August 3 is 8:30 am – 3:00 pm ET. \nMore information is in the Federal Register notice\, which is reproduced below. \n  \nSUMMARY: In accordance with the Federal Advisory Committee Act\, the \nNational Aeronautics and Space Administration (NASA) announces a \nmeeting of the Earth Science Advisory Committee (ESAC). This Committee \nfunctions in an advisory capacity to the Director\, Earth Science \nDivision\, in the NASA Science Mission Directorate. The meeting will be \nheld for the purpose of soliciting\, from the scientific community and \nother persons\, scientific and technical information relevant to program \nplanning.\n\nDATES: Tuesday\, August 2\, 2022\, 8:30 a.m.-5:00 p.m.\, and Wednesday\, \nAugust 3\, 2022\, 8:30 a.m.-3:00 p.m.\, Eastern Time.\n\nADDRESSES: NASA Headquarters\, Room 3H42A\, 300 E Street SW\, Washington\, \nDC 20546.\n\nFOR FURTHER INFORMATION CONTACT: Ms. KarShelia Kinard\, Science Mission \nDirectorate\, NASA Headquarters\, Washington\, DC 20546\, (202) 358-2355\, \nfax (202) 358-2779\, or karshelia.kinard@nasa.gov.\n\nSUPPLEMENTARY INFORMATION: The meeting will be open to the public up to \nthe capacity of the meeting room. This meeting is also available \ntelephonically and by WebEx. You must use a touch-tone phone to \nparticipate in this meeting. Any interested person may call the USA \ntoll free number 1-415-527-5035 or toll number 1-312-500-3163\, Access \ncode: 276 363 15585\, for August 2\, 2022\, to participate in this meeting \nby telephone. The WebEx link is \nhttps://nasaevents.webex.com/nasaevents/j.php?MTID=m0234136c4bedf0b0fb3c880ce1030282 \nthe meeting number is 2763 631 5585\, password is imUpRbJj547 (case sensitive). \n\nFor the second day\, August 3\, 2022 the USA toll free number +1-415-527-5035 \nor toll number +1-312-500-3163\, Access code: 276 307 46285. The WebEx \nlink is \nhttps://nasaevents.webex.com/nasaevents/j.php?MTID=mc2af8861a271c5f6a2fee56aa119a5ed \nthe meeting number is 2763 074 6285\, password is yExmRdzy368 (case sensitive). \n\nThe agenda for themeeting includes the following topics:\n\n--Earth Science Division Update\n\n[[Page 40280]]\n\n--Earth Science Decadal Survey Implementation (Earth System \nObservatory\, Explorer missions)\n-- Earth Venture Program status\n--Incubation Studies\n--Open Science\, Commercial Data Buy\n--Diversity\, Equity and Inclusion\n\n    The agenda will be posted on the ESAC web page: \nhttps://science.nasa.gov/researchers/nac/science-advisory-committees/esac.\n    Attendees will be requested to sign a register and to comply with \nNASA Headquarters security requirements\, including the presentation of \na valid picture ID to Security before access to NASA Headquarters. \nForeign nationals attending this meeting will be required to provide a \ncopy of their passport and visa in addition to providing the following \ninformation no less than 10 days prior to the meeting: full name; \ngender; date/place of birth; citizenship; passport information (number\, \ncountry\, telephone); visa information (number\, type\, expiration date); \nemployer/affiliation information (name of institution\, address\, \ncountry\, telephone); title/position of attendee. To expedite \nadmittance\, attendees with U.S. citizens and Permanent Residents (green \ncard holders) may provide full name and citizenship status no less than \n3 working days in advance by contacting Ms. KarShelia Kinard via email \nat karshelia.kinard@nasa.gov or by fax at 202-358-2779. It is \nimperative that the meeting be held on this date to accommodate the \nscheduling priorities of the key participants.
URL:https://spacepolicyonline.com/events/nasa-earth-science-advisory-committee-aug-2-3-2022-dc/
END:VEVENT
END:VCALENDAR