BEGIN:VCALENDAR
VERSION:2.0
PRODID:-//SpacePolicyOnline.com - ECPv6.15.11//NONSGML v1.0//EN
CALSCALE:GREGORIAN
METHOD:PUBLISH
X-WR-CALNAME:SpacePolicyOnline.com
X-ORIGINAL-URL:https://spacepolicyonline.com
X-WR-CALDESC:Events for SpacePolicyOnline.com
REFRESH-INTERVAL;VALUE=DURATION:PT1H
X-Robots-Tag:noindex
X-PUBLISHED-TTL:PT1H
BEGIN:VTIMEZONE
TZID:America/New_York
BEGIN:DAYLIGHT
TZOFFSETFROM:-0500
TZOFFSETTO:-0400
TZNAME:EDT
DTSTART:20180311T070000
END:DAYLIGHT
BEGIN:STANDARD
TZOFFSETFROM:-0400
TZOFFSETTO:-0500
TZNAME:EST
DTSTART:20181104T060000
END:STANDARD
BEGIN:DAYLIGHT
TZOFFSETFROM:-0500
TZOFFSETTO:-0400
TZNAME:EDT
DTSTART:20190310T070000
END:DAYLIGHT
BEGIN:STANDARD
TZOFFSETFROM:-0400
TZOFFSETTO:-0500
TZNAME:EST
DTSTART:20191103T060000
END:STANDARD
BEGIN:DAYLIGHT
TZOFFSETFROM:-0500
TZOFFSETTO:-0400
TZNAME:EDT
DTSTART:20200308T070000
END:DAYLIGHT
BEGIN:STANDARD
TZOFFSETFROM:-0400
TZOFFSETTO:-0500
TZNAME:EST
DTSTART:20201101T060000
END:STANDARD
END:VTIMEZONE
BEGIN:VEVENT
DTSTART;TZID=America/New_York:20190514T123000
DTEND;TZID=America/New_York:20190514T230000
DTSTAMP:20260422T224911
CREATED:20190513T222654Z
LAST-MODIFIED:20190513T222654Z
UID:25913-1557837000-1557874800@spacepolicyonline.com
SUMMARY:NASA EMPLOYEE TOWN HALL TO DISCUSS BUDGET SUPPLEMENTAL FOR MOON 2024\, May 14\, 2019\, DC\, 12:30 pm ET (webcast)
DESCRIPTION:NASA Administrator Jim Bridenstine will hold an employee Town Hall meeting at NASA HQ in Washington\, DC at 12:30 pm ET to discuss the new (announced May 13 about 6:00 pm ET) budget request supplemental to begin paying for the Trump Administration’s goal to return humans to the lunar surface in 5 years (by 2024). \nThe Town Hall meeting will be broadcast on NASA TV and NASA Live.
URL:https://spacepolicyonline.com/events/nasa-employee-town-hall-to-discuss-budget-supplemental-for-moon-2024-may-14-2019-dc-1230-pm-et-webcast/
END:VEVENT
END:VCALENDAR