BEGIN:VCALENDAR
VERSION:2.0
PRODID:-//SpacePolicyOnline.com - ECPv6.15.11//NONSGML v1.0//EN
CALSCALE:GREGORIAN
METHOD:PUBLISH
X-WR-CALNAME:SpacePolicyOnline.com
X-ORIGINAL-URL:https://spacepolicyonline.com
X-WR-CALDESC:Events for SpacePolicyOnline.com
REFRESH-INTERVAL;VALUE=DURATION:PT1H
X-Robots-Tag:noindex
X-PUBLISHED-TTL:PT1H
BEGIN:VTIMEZONE
TZID:America/New_York
BEGIN:DAYLIGHT
TZOFFSETFROM:-0500
TZOFFSETTO:-0400
TZNAME:EDT
DTSTART:20180311T070000
END:DAYLIGHT
BEGIN:STANDARD
TZOFFSETFROM:-0400
TZOFFSETTO:-0500
TZNAME:EST
DTSTART:20181104T060000
END:STANDARD
BEGIN:DAYLIGHT
TZOFFSETFROM:-0500
TZOFFSETTO:-0400
TZNAME:EDT
DTSTART:20190310T070000
END:DAYLIGHT
BEGIN:STANDARD
TZOFFSETFROM:-0400
TZOFFSETTO:-0500
TZNAME:EST
DTSTART:20191103T060000
END:STANDARD
BEGIN:DAYLIGHT
TZOFFSETFROM:-0500
TZOFFSETTO:-0400
TZNAME:EDT
DTSTART:20200308T070000
END:DAYLIGHT
BEGIN:STANDARD
TZOFFSETFROM:-0400
TZOFFSETTO:-0500
TZNAME:EST
DTSTART:20201101T060000
END:STANDARD
END:VTIMEZONE
BEGIN:VEVENT
DTSTART;TZID=America/New_York:20191015T140000
DTEND;TZID=America/New_York:20191015T230000
DTSTAMP:20260420T030507
CREATED:20191009T205601Z
LAST-MODIFIED:20191009T205615Z
UID:29571-1571148000-1571180400@spacepolicyonline.com
SUMMARY:NASA EVENT HIGHLIGHTING SPACESUITS FOR MOON TO MARS\, Oct 15\, 2019\, DC\, 2:00 pm ET and 3:45 pm ET
DESCRIPTION:NASA will hold events on October 15\, 2019 at its headquarters in Washington\, DC to “get an up-close look at the next generation spacesuits” that will be used for the Moon to Mars (Artemis) program. \n“Using ground prototypes\, NASA will showcase its two spacesuits designed for lunar exploration – one for launch and re-entry aboard the agency’s Orion spacecraft\, known as the Orion Crew Survival Suit\, and one for exploring the surface of the Moon’s South Pole\, known as the Exploration Extravehicular Mobility Unit (xEMU).” \nA public event will take place at 2:00 pm ET where NASA Administrator Jim Bridenstine will host a demonstration with NASA engineers. It will air live on NASA TV and NASA Live. \nAt 3:45 pm ET\, a teleconference will take place where spacesuit experts will answer questions from the media.  The NASA press release did not indicate if that will be livestreamed. \n  \n 
URL:https://spacepolicyonline.com/events/nasa-event-highlighting-spacesuits-for-moon-to-mars-oct-15-2019-dc-200-pm-et-and-345-pm-et/
END:VEVENT
END:VCALENDAR