BEGIN:VCALENDAR
VERSION:2.0
PRODID:-//SpacePolicyOnline.com - ECPv6.15.11//NONSGML v1.0//EN
CALSCALE:GREGORIAN
METHOD:PUBLISH
X-WR-CALNAME:SpacePolicyOnline.com
X-ORIGINAL-URL:https://spacepolicyonline.com
X-WR-CALDESC:Events for SpacePolicyOnline.com
REFRESH-INTERVAL;VALUE=DURATION:PT1H
X-Robots-Tag:noindex
X-PUBLISHED-TTL:PT1H
BEGIN:VTIMEZONE
TZID:America/New_York
BEGIN:DAYLIGHT
TZOFFSETFROM:-0500
TZOFFSETTO:-0400
TZNAME:EDT
DTSTART:20210314T070000
END:DAYLIGHT
BEGIN:STANDARD
TZOFFSETFROM:-0400
TZOFFSETTO:-0500
TZNAME:EST
DTSTART:20211107T060000
END:STANDARD
BEGIN:DAYLIGHT
TZOFFSETFROM:-0500
TZOFFSETTO:-0400
TZNAME:EDT
DTSTART:20220313T070000
END:DAYLIGHT
BEGIN:STANDARD
TZOFFSETFROM:-0400
TZOFFSETTO:-0500
TZNAME:EST
DTSTART:20221106T060000
END:STANDARD
BEGIN:DAYLIGHT
TZOFFSETFROM:-0500
TZOFFSETTO:-0400
TZNAME:EDT
DTSTART:20230312T070000
END:DAYLIGHT
BEGIN:STANDARD
TZOFFSETFROM:-0400
TZOFFSETTO:-0500
TZNAME:EST
DTSTART:20231105T060000
END:STANDARD
END:VTIMEZONE
BEGIN:VEVENT
DTSTART;TZID=America/New_York:20220422T073000
DTEND;TZID=America/New_York:20220424T230000
DTSTAMP:20260419T100037
CREATED:20220420T210000Z
LAST-MODIFIED:20220420T210000Z
UID:52689-1650612600-1650841200@spacepolicyonline.com
SUMMARY:NASA EVENTS FOR EARTH DAY 2022\, Apr 22-24\, 2022\, DC
DESCRIPTION:April 22 is celebrated as Earth Day every year. \nIn 2022\, NASA will hold a virtual event that day\, plus in-person events at Union Station in Washington\, DC on April 22-24. \nThe virtual event on April 22 features: \n\n10:30 a.m. – Retired NASA astronaut Don Thomas\n1 p.m. – NASA Earth Science Division Director Karen St. Germain\n3 p.m. – NASA Chief Scientist and Senior Climate Advisor Kate Calvin\n\nAccess that and other information about NASA’s Earth Day activities on the event’s website. \n 
URL:https://spacepolicyonline.com/events/nasa-events-for-earth-day-2022-apr-22-24-2022-dc/
END:VEVENT
END:VCALENDAR