BEGIN:VCALENDAR
VERSION:2.0
PRODID:-//SpacePolicyOnline.com - ECPv6.15.11//NONSGML v1.0//EN
CALSCALE:GREGORIAN
METHOD:PUBLISH
X-WR-CALNAME:SpacePolicyOnline.com
X-ORIGINAL-URL:https://spacepolicyonline.com
X-WR-CALDESC:Events for SpacePolicyOnline.com
REFRESH-INTERVAL;VALUE=DURATION:PT1H
X-Robots-Tag:noindex
X-PUBLISHED-TTL:PT1H
BEGIN:VTIMEZONE
TZID:America/New_York
BEGIN:DAYLIGHT
TZOFFSETFROM:-0500
TZOFFSETTO:-0400
TZNAME:EDT
DTSTART:20230312T070000
END:DAYLIGHT
BEGIN:STANDARD
TZOFFSETFROM:-0400
TZOFFSETTO:-0500
TZNAME:EST
DTSTART:20231105T060000
END:STANDARD
BEGIN:DAYLIGHT
TZOFFSETFROM:-0500
TZOFFSETTO:-0400
TZNAME:EDT
DTSTART:20240310T070000
END:DAYLIGHT
BEGIN:STANDARD
TZOFFSETFROM:-0400
TZOFFSETTO:-0500
TZNAME:EST
DTSTART:20241103T060000
END:STANDARD
BEGIN:DAYLIGHT
TZOFFSETFROM:-0500
TZOFFSETTO:-0400
TZNAME:EDT
DTSTART:20250309T070000
END:DAYLIGHT
BEGIN:STANDARD
TZOFFSETFROM:-0400
TZOFFSETTO:-0500
TZNAME:EST
DTSTART:20251102T060000
END:STANDARD
END:VTIMEZONE
BEGIN:VEVENT
DTSTART;TZID=America/New_York:20240106T070000
DTEND;TZID=America/New_York:20240107T230000
DTSTAMP:20260419T222807
CREATED:20231216T202222Z
LAST-MODIFIED:20231230T215802Z
UID:67357-1704524400-1704668400@spacepolicyonline.com
SUMMARY:NASA EXOPLANET EXPLORATION PROGRAM ANALYSIS GROUP (ExoPAG)\, Jan 6-7\, 2024\, New Orleans\, LA/virtual
DESCRIPTION:NASA’s Exoplanet Exploration Program Analysis Group (ExoPAG) will meet January 6-7\, 2024 in conjunction with the American Astronomical Society’s winter meeting in New Orleans\, LA. \nA virtual option is available for registered participants. \nThe in-person meeting is at the Hilton New Orleans Riverside hotel. \nThe agenda is posted.  ExoPAG meets in open session on January 6 and until 12:30 pm Central Time (1:30 pm Eastern) on January 7.  It then meets in executive session\, followed by a joint meeting with the other astrophysics PAGS from 3:00-5:00 pm Central Time (4:00-6:00 pm Eastern). \nMore information is on the ExoPAG website.
URL:https://spacepolicyonline.com/events/nasa-exoplanet-exploration-program-analysis-group-exopag-jan-6-7-2024-new-orleans-la/
END:VEVENT
END:VCALENDAR