BEGIN:VCALENDAR
VERSION:2.0
PRODID:-//SpacePolicyOnline.com - ECPv6.15.11//NONSGML v1.0//EN
CALSCALE:GREGORIAN
METHOD:PUBLISH
X-WR-CALNAME:SpacePolicyOnline.com
X-ORIGINAL-URL:https://spacepolicyonline.com
X-WR-CALDESC:Events for SpacePolicyOnline.com
REFRESH-INTERVAL;VALUE=DURATION:PT1H
X-Robots-Tag:noindex
X-PUBLISHED-TTL:PT1H
BEGIN:VTIMEZONE
TZID:America/New_York
BEGIN:DAYLIGHT
TZOFFSETFROM:-0500
TZOFFSETTO:-0400
TZNAME:EDT
DTSTART:20200308T070000
END:DAYLIGHT
BEGIN:STANDARD
TZOFFSETFROM:-0400
TZOFFSETTO:-0500
TZNAME:EST
DTSTART:20201101T060000
END:STANDARD
BEGIN:DAYLIGHT
TZOFFSETFROM:-0500
TZOFFSETTO:-0400
TZNAME:EDT
DTSTART:20210314T070000
END:DAYLIGHT
BEGIN:STANDARD
TZOFFSETFROM:-0400
TZOFFSETTO:-0500
TZNAME:EST
DTSTART:20211107T060000
END:STANDARD
BEGIN:DAYLIGHT
TZOFFSETFROM:-0500
TZOFFSETTO:-0400
TZNAME:EDT
DTSTART:20220313T070000
END:DAYLIGHT
BEGIN:STANDARD
TZOFFSETFROM:-0400
TZOFFSETTO:-0500
TZNAME:EST
DTSTART:20221106T060000
END:STANDARD
END:VTIMEZONE
BEGIN:VEVENT
DTSTART;TZID=America/New_York:20211110T120000
DTEND;TZID=America/New_York:20211110T230000
DTSTAMP:20260420T155032
CREATED:20211029T050524Z
LAST-MODIFIED:20211029T050524Z
UID:47824-1636545600-1636585200@spacepolicyonline.com
SUMMARY:NASA FORUM ON RFI FOR SLS/EXPLORATION TRANSPORTATION SYSTEM\, Nov 10\, 2021\, virtual\, 12:00 pm ET
DESCRIPTION:NASA will hold a virtual forum on November 10\, 2021 at 11:00 am Central Time (12:00 pm Eastern) to discuss the Request for Information (RFI) it released on October 26\, 2021 for industry input on transitioning the Space Launch System (SLS) and its associated ground systems into an “Exploration Transportation System” for the long-term future.  Responses to the RFI are due on January 27\, 2022. \nMore information is in the RFI.  Details on this forum are in Appendix F. \nThe deadline to register is November 2.
URL:https://spacepolicyonline.com/events/nasa-forum-on-rfi-for-sls-exploration-transportation-system-nov-10-2021-virtual-1200-pm-et/
END:VEVENT
END:VCALENDAR