BEGIN:VCALENDAR
VERSION:2.0
PRODID:-//SpacePolicyOnline.com - ECPv6.15.11//NONSGML v1.0//EN
CALSCALE:GREGORIAN
METHOD:PUBLISH
X-WR-CALNAME:SpacePolicyOnline.com
X-ORIGINAL-URL:https://spacepolicyonline.com
X-WR-CALDESC:Events for SpacePolicyOnline.com
REFRESH-INTERVAL;VALUE=DURATION:PT1H
X-Robots-Tag:noindex
X-PUBLISHED-TTL:PT1H
BEGIN:VTIMEZONE
TZID:America/New_York
BEGIN:DAYLIGHT
TZOFFSETFROM:-0500
TZOFFSETTO:-0400
TZNAME:EDT
DTSTART:20220313T070000
END:DAYLIGHT
BEGIN:STANDARD
TZOFFSETFROM:-0400
TZOFFSETTO:-0500
TZNAME:EST
DTSTART:20221106T060000
END:STANDARD
BEGIN:DAYLIGHT
TZOFFSETFROM:-0500
TZOFFSETTO:-0400
TZNAME:EDT
DTSTART:20230312T070000
END:DAYLIGHT
BEGIN:STANDARD
TZOFFSETFROM:-0400
TZOFFSETTO:-0500
TZNAME:EST
DTSTART:20231105T060000
END:STANDARD
BEGIN:DAYLIGHT
TZOFFSETFROM:-0500
TZOFFSETTO:-0400
TZNAME:EDT
DTSTART:20240310T070000
END:DAYLIGHT
BEGIN:STANDARD
TZOFFSETFROM:-0400
TZOFFSETTO:-0500
TZNAME:EST
DTSTART:20241103T060000
END:STANDARD
END:VTIMEZONE
BEGIN:VEVENT
DTSTART;TZID=America/New_York:20230227T130000
DTEND;TZID=America/New_York:20230227T230000
DTSTAMP:20260425T222138
CREATED:20230226T172313Z
LAST-MODIFIED:20230226T172313Z
UID:60154-1677502800-1677538800@spacepolicyonline.com
SUMMARY:NASA MARS EXPLORATION PROGRAM ADVISORY GROUP (MEPAG)\, Feb 27\, 2023\, virtual\, 1:00-5:00 pm ET
DESCRIPTION:NASA’s Mars Exploration Program Advisory Group (MEPAG) will meet virtually on February 27\, 2023 from 1:00-5:00 pm ET. \nThe agenda is posted. \nMore information is on the MEPAG website. \n 
URL:https://spacepolicyonline.com/events/nasa-mars-exploration-program-advisory-group-mepag-feb-27-2023-virtual-100-500-pm-et/
END:VEVENT
END:VCALENDAR