BEGIN:VCALENDAR
VERSION:2.0
PRODID:-//SpacePolicyOnline.com - ECPv6.15.11//NONSGML v1.0//EN
CALSCALE:GREGORIAN
METHOD:PUBLISH
X-WR-CALNAME:SpacePolicyOnline.com
X-ORIGINAL-URL:https://spacepolicyonline.com
X-WR-CALDESC:Events for SpacePolicyOnline.com
REFRESH-INTERVAL;VALUE=DURATION:PT1H
X-Robots-Tag:noindex
X-PUBLISHED-TTL:PT1H
BEGIN:VTIMEZONE
TZID:America/New_York
BEGIN:DAYLIGHT
TZOFFSETFROM:-0500
TZOFFSETTO:-0400
TZNAME:EDT
DTSTART:20220313T070000
END:DAYLIGHT
BEGIN:STANDARD
TZOFFSETFROM:-0400
TZOFFSETTO:-0500
TZNAME:EST
DTSTART:20221106T060000
END:STANDARD
BEGIN:DAYLIGHT
TZOFFSETFROM:-0500
TZOFFSETTO:-0400
TZNAME:EDT
DTSTART:20230312T070000
END:DAYLIGHT
BEGIN:STANDARD
TZOFFSETFROM:-0400
TZOFFSETTO:-0500
TZNAME:EST
DTSTART:20231105T060000
END:STANDARD
BEGIN:DAYLIGHT
TZOFFSETFROM:-0500
TZOFFSETTO:-0400
TZNAME:EDT
DTSTART:20240310T070000
END:DAYLIGHT
BEGIN:STANDARD
TZOFFSETFROM:-0400
TZOFFSETTO:-0500
TZNAME:EST
DTSTART:20241103T060000
END:STANDARD
END:VTIMEZONE
BEGIN:VEVENT
DTSTART;TZID=America/New_York:20230411T070000
DTEND;TZID=America/New_York:20230412T230000
DTSTAMP:20260425T160150
CREATED:20230312T150130Z
LAST-MODIFIED:20230407T152024Z
UID:60551-1681196400-1681340400@spacepolicyonline.com
SUMMARY:NASA MARS EXPLORATION PROGRAM ANALYSIS GROUP (MEPAG)\, Apr 11-12\, 2023\, DC/virtual
DESCRIPTION:NASA’s Mars Exploration Program Analysis Group (MEPAG) will meet in-person and virtually from April 11-12\, 2023.  The in-person meeting is at the University of Arizona D.C. Center for Outreach and Collaboration in Washington\, D.C. \nMore information is on the MEPAG website. \nThe agenda is posted.
URL:https://spacepolicyonline.com/events/nasa-mars-exploration-program-analysis-group-mepag-apr-11-12-2023-dc-virtual/
END:VEVENT
END:VCALENDAR