BEGIN:VCALENDAR
VERSION:2.0
PRODID:-//SpacePolicyOnline.com - ECPv6.15.11//NONSGML v1.0//EN
CALSCALE:GREGORIAN
METHOD:PUBLISH
X-WR-CALNAME:SpacePolicyOnline.com
X-ORIGINAL-URL:https://spacepolicyonline.com
X-WR-CALDESC:Events for SpacePolicyOnline.com
REFRESH-INTERVAL;VALUE=DURATION:PT1H
X-Robots-Tag:noindex
X-PUBLISHED-TTL:PT1H
BEGIN:VTIMEZONE
TZID:America/New_York
BEGIN:DAYLIGHT
TZOFFSETFROM:-0500
TZOFFSETTO:-0400
TZNAME:EDT
DTSTART:20190310T070000
END:DAYLIGHT
BEGIN:STANDARD
TZOFFSETFROM:-0400
TZOFFSETTO:-0500
TZNAME:EST
DTSTART:20191103T060000
END:STANDARD
BEGIN:DAYLIGHT
TZOFFSETFROM:-0500
TZOFFSETTO:-0400
TZNAME:EDT
DTSTART:20200308T070000
END:DAYLIGHT
BEGIN:STANDARD
TZOFFSETFROM:-0400
TZOFFSETTO:-0500
TZNAME:EST
DTSTART:20201101T060000
END:STANDARD
BEGIN:DAYLIGHT
TZOFFSETFROM:-0500
TZOFFSETTO:-0400
TZNAME:EDT
DTSTART:20210314T070000
END:DAYLIGHT
BEGIN:STANDARD
TZOFFSETFROM:-0400
TZOFFSETTO:-0500
TZNAME:EST
DTSTART:20211107T060000
END:STANDARD
END:VTIMEZONE
BEGIN:VEVENT
DTSTART;TZID=America/New_York:20201203T130000
DTEND;TZID=America/New_York:20201203T230000
DTSTAMP:20260419T124954
CREATED:20201201T205824Z
LAST-MODIFIED:20201201T205852Z
UID:39503-1607000400-1607036400@spacepolicyonline.com
SUMMARY:NASA MEDIA BFG TO ANNOUNCE WINNERS OF LUNAR RESOURCE CONTRACTS\, Dec 3\, 2020\, virtual\, 1:00 pm ET
DESCRIPTION:NASA will hold a media teleconference at 1:00 pm ET on December 3\, 2020 to announce the winners of contracts to collect lunar resources as part of the Artemis program. \nAudio will be streamed on NASA Live. \nParticipants include: \n\nMike Gold\, NASA Acting Associate Administrator for International and Interagency Relations\nPhil McAlister\, NASA Director of Commercial Spaceflight Development\n\nThe winning companies are not required to return samples to Earth\, only to collect samples from any part of the Moon using robotic spacecraft and send back images showing that a collection was made.  The solicitation was announced on September 10.
URL:https://spacepolicyonline.com/events/nasa-media-bfg-to-announce-winners-of-space-resources-contracts-dec-3-2020-virtual-100-pm-et/
END:VEVENT
END:VCALENDAR