BEGIN:VCALENDAR
VERSION:2.0
PRODID:-//SpacePolicyOnline.com - ECPv6.15.11//NONSGML v1.0//EN
CALSCALE:GREGORIAN
METHOD:PUBLISH
X-WR-CALNAME:SpacePolicyOnline.com
X-ORIGINAL-URL:https://spacepolicyonline.com
X-WR-CALDESC:Events for SpacePolicyOnline.com
REFRESH-INTERVAL;VALUE=DURATION:PT1H
X-Robots-Tag:noindex
X-PUBLISHED-TTL:PT1H
BEGIN:VTIMEZONE
TZID:America/New_York
BEGIN:DAYLIGHT
TZOFFSETFROM:-0500
TZOFFSETTO:-0400
TZNAME:EDT
DTSTART:20210314T070000
END:DAYLIGHT
BEGIN:STANDARD
TZOFFSETFROM:-0400
TZOFFSETTO:-0500
TZNAME:EST
DTSTART:20211107T060000
END:STANDARD
BEGIN:DAYLIGHT
TZOFFSETFROM:-0500
TZOFFSETTO:-0400
TZNAME:EDT
DTSTART:20220313T070000
END:DAYLIGHT
BEGIN:STANDARD
TZOFFSETFROM:-0400
TZOFFSETTO:-0500
TZNAME:EST
DTSTART:20221106T060000
END:STANDARD
BEGIN:DAYLIGHT
TZOFFSETFROM:-0500
TZOFFSETTO:-0400
TZNAME:EDT
DTSTART:20230312T070000
END:DAYLIGHT
BEGIN:STANDARD
TZOFFSETFROM:-0400
TZOFFSETTO:-0500
TZNAME:EST
DTSTART:20231105T060000
END:STANDARD
END:VTIMEZONE
BEGIN:VEVENT
DTSTART;TZID=America/New_York:20220316T120000
DTEND;TZID=America/New_York:20220316T230000
DTSTAMP:20260419T190438
CREATED:20220314T175210Z
LAST-MODIFIED:20220314T175210Z
UID:51368-1647432000-1647471600@spacepolicyonline.com
SUMMARY:NASA MEDIA BFG WITH UPDATE ON JWST'S MIRROR ALIGNMENT\, Mar 16\, 2022\, virtual\, 12:00 pm ET
DESCRIPTION:NASA will hold a media briefing on March 16\, 2022 at 12:00 pm ET to discuss completion of the alignment of the James Webb Space Telescope’s 18 mirror segments. NASA will make imagery demonstrating the completion of this milestone available on the agency’s website at 11:30 a.m.\, prior to the briefing. \nThe briefing will air live on NASA TV\, the NASA app\, and the agency’s website. \nParticipants are: \n\nThomas Zurbuchen\, associate administrator\, Science Mission Directorate\, NASA Headquarters in Washington\nLee Feinberg\, Webb optical telescope element manager\, NASA’s Goddard Space Flight Center in Greenbelt\, Maryland\nMarshall Perrin\, Webb deputy telescope scientist\, Space Telescope Science Institute in Baltimore\nJane Rigby\, Webb operations project scientist\, Goddard\nErin Wolf\, Webb program manager\, Ball Aerospace in Broomfield\, Colorado
URL:https://spacepolicyonline.com/events/nasa-media-bfg-with-update-on-jwsts-mirror-alignment-mar-16-2022-virtual-1200-pm-et/
END:VEVENT
END:VCALENDAR