BEGIN:VCALENDAR
VERSION:2.0
PRODID:-//SpacePolicyOnline.com - ECPv6.15.11//NONSGML v1.0//EN
CALSCALE:GREGORIAN
METHOD:PUBLISH
X-WR-CALNAME:SpacePolicyOnline.com
X-ORIGINAL-URL:https://spacepolicyonline.com
X-WR-CALDESC:Events for SpacePolicyOnline.com
REFRESH-INTERVAL;VALUE=DURATION:PT1H
X-Robots-Tag:noindex
X-PUBLISHED-TTL:PT1H
BEGIN:VTIMEZONE
TZID:America/New_York
BEGIN:DAYLIGHT
TZOFFSETFROM:-0500
TZOFFSETTO:-0400
TZNAME:EDT
DTSTART:20160313T070000
END:DAYLIGHT
BEGIN:STANDARD
TZOFFSETFROM:-0400
TZOFFSETTO:-0500
TZNAME:EST
DTSTART:20161106T060000
END:STANDARD
BEGIN:DAYLIGHT
TZOFFSETFROM:-0500
TZOFFSETTO:-0400
TZNAME:EDT
DTSTART:20170312T070000
END:DAYLIGHT
BEGIN:STANDARD
TZOFFSETFROM:-0400
TZOFFSETTO:-0500
TZNAME:EST
DTSTART:20171105T060000
END:STANDARD
BEGIN:DAYLIGHT
TZOFFSETFROM:-0500
TZOFFSETTO:-0400
TZNAME:EDT
DTSTART:20180311T070000
END:DAYLIGHT
BEGIN:STANDARD
TZOFFSETFROM:-0400
TZOFFSETTO:-0500
TZNAME:EST
DTSTART:20181104T060000
END:STANDARD
END:VTIMEZONE
BEGIN:VEVENT
DTSTART;TZID=America/New_York:20171220T140000
DTEND;TZID=America/New_York:20171220T220000
DTSTAMP:20260425T110051
CREATED:20171218T221834Z
LAST-MODIFIED:20171220T044559Z
UID:13621-1513778400-1513807200@spacepolicyonline.com
SUMMARY:NASA MEDIA TELECON ANNOUNCING SEMI-FINALISTS FOR NEXT NEW FRONTIERS MISSION\, Dec 20\, 2017\, 2:00 pm ET (NASA Live)
DESCRIPTION:NASA will hold a media teleconference on December 20\, 2017 at 2:00 pm ET to announce the semi-finalists in the competition to be the next New Frontiers planetary science mission.  Each New Frontiers mission is led by a “principal investigator” (PI) who takes responsibility for managing the project within designated cost and schedule limits. \nThe audio of the teleconference will be livestreamed on NASA’s website NASA Live.   Participants are: \n\nThomas Zurbuchen\, associate administrator of NASA’s Science Mission Directorate\nJim Green\, director of the Planetary Science Division at NASA Headquarters\nCurt Niebur\, New Frontiers program scientist at at NASA Headquarters\nPrincipal investigators of the selected missions\n\nA total of 12 mission concepts are competing for opportunities to continue concept definition studies into Phase A\, leading to a final selection in 2019.  Launch will take place in the mid-2020s.  It will be the fourth mission in this series of spacecraft that have a development cost cap of  approximately $1 billion\, which is a medium-size planetary mission by NASA standards (larger than the Discovery class and smaller than a flagship mission).   The first three are:  the New Horizons mission that flew past Pluto in 2015 and is now on its way to a Kuiper Belt object; the Juno mission currently orbiting Jupiter; and the OSIRIS-REx mission now enroute to the asteroid Bennu\, from which it will return a sample to Earth. \nNASA determines what solar system destinations may be considered in each round of selections.  For this one\, New Frontiers 4 (NF-4)\, the options were: \n\nComet Surface Sample Return\nLunar South Pole-Aitken Basin Sample Return\nOcean Worlds (Titan and/or Enceladus)\nSaturn Probe\nTrojan Tour and Rendezvous\nVenus In Situ Explorer\n\n 
URL:https://spacepolicyonline.com/events/nasa-media-telecon-announcing-finalists-for-next-new-frontiers-mission-dec-20-2017-200-pm-et-nasa-live/
END:VEVENT
END:VCALENDAR