BEGIN:VCALENDAR
VERSION:2.0
PRODID:-//SpacePolicyOnline.com - ECPv6.15.11//NONSGML v1.0//EN
CALSCALE:GREGORIAN
METHOD:PUBLISH
X-WR-CALNAME:SpacePolicyOnline.com
X-ORIGINAL-URL:https://spacepolicyonline.com
X-WR-CALDESC:Events for SpacePolicyOnline.com
REFRESH-INTERVAL;VALUE=DURATION:PT1H
X-Robots-Tag:noindex
X-PUBLISHED-TTL:PT1H
BEGIN:VTIMEZONE
TZID:America/New_York
BEGIN:DAYLIGHT
TZOFFSETFROM:-0500
TZOFFSETTO:-0400
TZNAME:EDT
DTSTART:20210314T070000
END:DAYLIGHT
BEGIN:STANDARD
TZOFFSETFROM:-0400
TZOFFSETTO:-0500
TZNAME:EST
DTSTART:20211107T060000
END:STANDARD
BEGIN:DAYLIGHT
TZOFFSETFROM:-0500
TZOFFSETTO:-0400
TZNAME:EDT
DTSTART:20220313T070000
END:DAYLIGHT
BEGIN:STANDARD
TZOFFSETFROM:-0400
TZOFFSETTO:-0500
TZNAME:EST
DTSTART:20221106T060000
END:STANDARD
BEGIN:DAYLIGHT
TZOFFSETFROM:-0500
TZOFFSETTO:-0400
TZNAME:EDT
DTSTART:20230312T070000
END:DAYLIGHT
BEGIN:STANDARD
TZOFFSETFROM:-0400
TZOFFSETTO:-0500
TZNAME:EST
DTSTART:20231105T060000
END:STANDARD
END:VTIMEZONE
BEGIN:VEVENT
DTSTART;TZID=America/New_York:20220314T173000
DTEND;TZID=America/New_York:20220314T230000
DTSTAMP:20260419T200808
CREATED:20220310T210913Z
LAST-MODIFIED:20220310T210913Z
UID:51270-1647279000-1647298800@spacepolicyonline.com
SUMMARY:NASA MEDIA TELECON FOR ARTEMIS I WDR ROLL-OUT\, Mar 14\, 2022\, virtual\, 5:30 pm ET
DESCRIPTION:NASA will hold a media telecon on March 14\, 2022 at 5:30 pm ET following the Test Readiness Review for the Wet Dress Rehearsal (WDR) test of the Artemis I system.  Artemis I is an uncrewed test flight of the Space Launch System (SLS) and Orion crew spacecraft.  The date for that launch will be determined after this WDR test has been conducted and the results analyzed. \nNASA plans to roll-out the SLS/Orion “stack” to the launch pad for the WDR beginning about 6:00 pm ET on March 17.  This media telecon is in preparation for that event.  It will be available on NASA Live. \nParticipants are: \n\nTom Whitmeyer\, associate administrator for exploration systems development\, NASA Headquarters in Washington\nMike Sarafin\, Artemis mission manager\, NASA Headquarters\nCharlie Blackwell-Thompson\, Artemis launch director\, NASA Exploration Ground Systems program\, Kennedy\nJohn Honeycutt\, manager\, Space Launch System program\, Marshall Space Flight Center in Huntsville\, Alabama\nHoward Hu\, manager\, Orion program\, Johnson Space Center in Houston
URL:https://spacepolicyonline.com/events/nasa-media-telecon-for-artemis-i-wdr-roll-out-mar-14-2022-virtual-530-pm-et/
END:VEVENT
END:VCALENDAR