BEGIN:VCALENDAR
VERSION:2.0
PRODID:-//SpacePolicyOnline.com - ECPv6.15.11//NONSGML v1.0//EN
CALSCALE:GREGORIAN
METHOD:PUBLISH
X-WR-CALNAME:SpacePolicyOnline.com
X-ORIGINAL-URL:https://spacepolicyonline.com
X-WR-CALDESC:Events for SpacePolicyOnline.com
REFRESH-INTERVAL;VALUE=DURATION:PT1H
X-Robots-Tag:noindex
X-PUBLISHED-TTL:PT1H
BEGIN:VTIMEZONE
TZID:America/New_York
BEGIN:DAYLIGHT
TZOFFSETFROM:-0500
TZOFFSETTO:-0400
TZNAME:EDT
DTSTART:20220313T070000
END:DAYLIGHT
BEGIN:STANDARD
TZOFFSETFROM:-0400
TZOFFSETTO:-0500
TZNAME:EST
DTSTART:20221106T060000
END:STANDARD
BEGIN:DAYLIGHT
TZOFFSETFROM:-0500
TZOFFSETTO:-0400
TZNAME:EDT
DTSTART:20230312T070000
END:DAYLIGHT
BEGIN:STANDARD
TZOFFSETFROM:-0400
TZOFFSETTO:-0500
TZNAME:EST
DTSTART:20231105T060000
END:STANDARD
BEGIN:DAYLIGHT
TZOFFSETFROM:-0500
TZOFFSETTO:-0400
TZNAME:EDT
DTSTART:20240310T070000
END:DAYLIGHT
BEGIN:STANDARD
TZOFFSETFROM:-0400
TZOFFSETTO:-0500
TZNAME:EST
DTSTART:20241103T060000
END:STANDARD
END:VTIMEZONE
BEGIN:VEVENT
DTSTART;TZID=America/New_York:20230307T120000
DTEND;TZID=America/New_York:20230307T230000
DTSTAMP:20260425T212203
CREATED:20230302T175650Z
LAST-MODIFIED:20230302T175650Z
UID:60283-1678190400-1678230000@spacepolicyonline.com
SUMMARY:NASA MEDIA TELECON ON DATA FROM ARTEMIS I\, Mar 7\, 2023\, virtual\, 12:00 pm ET
DESCRIPTION:NASA will hold a media telecon on March 7\, 2023 at 12:00 pm ET to discuss data analyzed so far from the uncrewed Artemis I test flight of the Space Launch System rocket and Orion spacecraft. \nAudio of the call will livestream on NASA Live. \nParticipants are: \n\nJim Free\, associate administrator\, Exploration Systems Development Mission Directorate\nHoward Hu\, manager\, Orion Program\nJohn Honeycutt\, manager\, SLS Program\nShawn Quinn\, manager\, Exploration Ground Systems Program
URL:https://spacepolicyonline.com/events/nasa-media-telecon-on-data-from-artemis-i-mar-7-2023-virtual-1200-pm-et/
END:VEVENT
END:VCALENDAR