BEGIN:VCALENDAR
VERSION:2.0
PRODID:-//SpacePolicyOnline.com - ECPv6.15.11//NONSGML v1.0//EN
CALSCALE:GREGORIAN
METHOD:PUBLISH
X-WR-CALNAME:SpacePolicyOnline.com
X-ORIGINAL-URL:https://spacepolicyonline.com
X-WR-CALDESC:Events for SpacePolicyOnline.com
REFRESH-INTERVAL;VALUE=DURATION:PT1H
X-Robots-Tag:noindex
X-PUBLISHED-TTL:PT1H
BEGIN:VTIMEZONE
TZID:America/New_York
BEGIN:DAYLIGHT
TZOFFSETFROM:-0500
TZOFFSETTO:-0400
TZNAME:EDT
DTSTART:20220313T070000
END:DAYLIGHT
BEGIN:STANDARD
TZOFFSETFROM:-0400
TZOFFSETTO:-0500
TZNAME:EST
DTSTART:20221106T060000
END:STANDARD
BEGIN:DAYLIGHT
TZOFFSETFROM:-0500
TZOFFSETTO:-0400
TZNAME:EDT
DTSTART:20230312T070000
END:DAYLIGHT
BEGIN:STANDARD
TZOFFSETFROM:-0400
TZOFFSETTO:-0500
TZNAME:EST
DTSTART:20231105T060000
END:STANDARD
BEGIN:DAYLIGHT
TZOFFSETFROM:-0500
TZOFFSETTO:-0400
TZNAME:EDT
DTSTART:20240310T070000
END:DAYLIGHT
BEGIN:STANDARD
TZOFFSETFROM:-0400
TZOFFSETTO:-0500
TZNAME:EST
DTSTART:20241103T060000
END:STANDARD
END:VTIMEZONE
BEGIN:VEVENT
DTSTART;TZID=America/New_York:20230314T110000
DTEND;TZID=America/New_York:20230314T230000
DTSTAMP:20260420T110857
CREATED:20230309T160345Z
LAST-MODIFIED:20230309T161204Z
UID:60466-1678791600-1678834800@spacepolicyonline.com
SUMMARY:NASA MEDIA TELECON ON SCIENCE ABOARD SPX-27 CARGO LAUNCH TO ISS\, Mar 14\, 2023\, virtual\, 11:00 am ET
DESCRIPTION:NASA will hold a media telecon on March 14\, 2023 at 11:00 am ET to discuss the science experiments that will be delivered to the International Space Station by SpaceX’s SpX-27 cargo mission scheduled for launch later that day at 8:30 pm ET. \nParticipants in the science media telecon\, which will be livestreamed on NASA Live\, are: \n\nDr. Meghan Everett\, deputy chief scientist\, NASA’s International Space Station Program Research Office\nShane Johnson\, former HUNCH student and current research assistant at the University of Texas at Austin\, who will discuss the HUNCH Ball Clamp Monopod experiment\nDr. Mita Hajime\, professor at the Fukuoka Institute of Technology and principal investigator for the Tanpopo-5 experiment\nDr. Ralf Moeller\, microbiologist at the German Aerospace Center in Cologne\, Germany\, and principal investigator of the BIOFILMS study\nDevin Mair\, Johns Hopkins university doctoral candidate\, who will discuss Engineered Heart Tissues-2\nDr. Dilip Thomas\, post-doctoral researcher at the Stanford Cardiovascular Institute\, who will discuss the Cardinal Heart 2.0 investigation\nLogan Torres\, engineer at IRPI in Wilsonville\, Oregon\, who will discuss the CapiSorb Visible System study\n\n  \n 
URL:https://spacepolicyonline.com/events/nasa-media-telecon-on-science-aboard-spx-27-cargo-launch-to-iss-mar-14-2023-virtual-1100-am-et/
END:VEVENT
END:VCALENDAR