BEGIN:VCALENDAR
VERSION:2.0
PRODID:-//SpacePolicyOnline.com - ECPv6.15.11//NONSGML v1.0//EN
CALSCALE:GREGORIAN
METHOD:PUBLISH
X-WR-CALNAME:SpacePolicyOnline.com
X-ORIGINAL-URL:https://spacepolicyonline.com
X-WR-CALDESC:Events for SpacePolicyOnline.com
REFRESH-INTERVAL;VALUE=DURATION:PT1H
X-Robots-Tag:noindex
X-PUBLISHED-TTL:PT1H
BEGIN:VTIMEZONE
TZID:America/New_York
BEGIN:DAYLIGHT
TZOFFSETFROM:-0500
TZOFFSETTO:-0400
TZNAME:EDT
DTSTART:20210314T070000
END:DAYLIGHT
BEGIN:STANDARD
TZOFFSETFROM:-0400
TZOFFSETTO:-0500
TZNAME:EST
DTSTART:20211107T060000
END:STANDARD
BEGIN:DAYLIGHT
TZOFFSETFROM:-0500
TZOFFSETTO:-0400
TZNAME:EDT
DTSTART:20220313T070000
END:DAYLIGHT
BEGIN:STANDARD
TZOFFSETFROM:-0400
TZOFFSETTO:-0500
TZNAME:EST
DTSTART:20221106T060000
END:STANDARD
BEGIN:DAYLIGHT
TZOFFSETFROM:-0500
TZOFFSETTO:-0400
TZNAME:EDT
DTSTART:20230312T070000
END:DAYLIGHT
BEGIN:STANDARD
TZOFFSETFROM:-0400
TZOFFSETTO:-0500
TZNAME:EST
DTSTART:20231105T060000
END:STANDARD
END:VTIMEZONE
BEGIN:VEVENT
DTSTART;TZID=America/New_York:20220204T120000
DTEND;TZID=America/New_York:20220204T230000
DTSTAMP:20260420T005643
CREATED:20220204T000800Z
LAST-MODIFIED:20220204T000818Z
UID:50216-1643976000-1644015600@spacepolicyonline.com
SUMMARY:NASA MEDIA TELECON ON UPCOMING CREW-4 LAUNCH\, Feb 4\, 2022\, virtual\, 12:00 pm ET
DESCRIPTION:NASA will hold a media telecon on February 4\, 2022 at 12:00 pm ET to discuss the SpaceX Crew-4 mission currently scheduled for launch on April 15. \nThe event will be livestreamed on NASA Live. \nParticipants are: \n\nKathryn Lueders\, associate administrator\, NASA’s Space Operations Mission Directorate\nSteve Stich\, manager\, NASA’s Commercial Crew Program\nJoel Montalbano\, manager\, NASA’s International Space Station Program\nWilliam Gerstenmaier\, vice president\, Build and Flight Reliability\, SpaceX
URL:https://spacepolicyonline.com/events/nasa-media-telecon-on-upcoming-crew-4-launch-feb-4-2022-virtual-1200-pm-et/
END:VEVENT
END:VCALENDAR