BEGIN:VCALENDAR
VERSION:2.0
PRODID:-//SpacePolicyOnline.com - ECPv6.15.11//NONSGML v1.0//EN
CALSCALE:GREGORIAN
METHOD:PUBLISH
X-WR-CALNAME:SpacePolicyOnline.com
X-ORIGINAL-URL:https://spacepolicyonline.com
X-WR-CALDESC:Events for SpacePolicyOnline.com
REFRESH-INTERVAL;VALUE=DURATION:PT1H
X-Robots-Tag:noindex
X-PUBLISHED-TTL:PT1H
BEGIN:VTIMEZONE
TZID:America/New_York
BEGIN:DAYLIGHT
TZOFFSETFROM:-0500
TZOFFSETTO:-0400
TZNAME:EDT
DTSTART:20220313T070000
END:DAYLIGHT
BEGIN:STANDARD
TZOFFSETFROM:-0400
TZOFFSETTO:-0500
TZNAME:EST
DTSTART:20221106T060000
END:STANDARD
BEGIN:DAYLIGHT
TZOFFSETFROM:-0500
TZOFFSETTO:-0400
TZNAME:EDT
DTSTART:20230312T070000
END:DAYLIGHT
BEGIN:STANDARD
TZOFFSETFROM:-0400
TZOFFSETTO:-0500
TZNAME:EST
DTSTART:20231105T060000
END:STANDARD
BEGIN:DAYLIGHT
TZOFFSETFROM:-0500
TZOFFSETTO:-0400
TZNAME:EDT
DTSTART:20240310T070000
END:DAYLIGHT
BEGIN:STANDARD
TZOFFSETFROM:-0400
TZOFFSETTO:-0500
TZNAME:EST
DTSTART:20241103T060000
END:STANDARD
END:VTIMEZONE
BEGIN:VEVENT
DTSTART;TZID=America/New_York:20230626T130000
DTEND;TZID=America/New_York:20230626T230000
DTSTAMP:20260425T234821
CREATED:20230625T153318Z
LAST-MODIFIED:20230625T153318Z
UID:63042-1687784400-1687820400@spacepolicyonline.com
SUMMARY:NASA MEDIA TELECON RE LOGISTICS FOR COVERING OSIRIS-REX RETURN\, June 26\, 2023\, virtual\, 1:00 pm ET
DESCRIPTION:NASA will hold a media telecon on June 26\, 2023 at 1:00 pm ET to answer questions about logistics for media planning to cover the return of samples from the asteroid Bennu by the OSIRIS-REx spacecraft. The sample return canister will land near the Dugway Proving Ground in Utah on September 24\, 2023. \nAudio of the telecon will air on NASA Live.
URL:https://spacepolicyonline.com/events/nasa-media-telecon-re-logistics-for-covering-osiris-rex-return-june-26-2023-virtual-100-pm-et/
END:VEVENT
END:VCALENDAR