BEGIN:VCALENDAR
VERSION:2.0
PRODID:-//SpacePolicyOnline.com - ECPv6.15.11//NONSGML v1.0//EN
CALSCALE:GREGORIAN
METHOD:PUBLISH
X-WR-CALNAME:SpacePolicyOnline.com
X-ORIGINAL-URL:https://spacepolicyonline.com
X-WR-CALDESC:Events for SpacePolicyOnline.com
REFRESH-INTERVAL;VALUE=DURATION:PT1H
X-Robots-Tag:noindex
X-PUBLISHED-TTL:PT1H
BEGIN:VTIMEZONE
TZID:America/New_York
BEGIN:DAYLIGHT
TZOFFSETFROM:-0500
TZOFFSETTO:-0400
TZNAME:EDT
DTSTART:20210314T070000
END:DAYLIGHT
BEGIN:STANDARD
TZOFFSETFROM:-0400
TZOFFSETTO:-0500
TZNAME:EST
DTSTART:20211107T060000
END:STANDARD
BEGIN:DAYLIGHT
TZOFFSETFROM:-0500
TZOFFSETTO:-0400
TZNAME:EDT
DTSTART:20220313T070000
END:DAYLIGHT
BEGIN:STANDARD
TZOFFSETFROM:-0400
TZOFFSETTO:-0500
TZNAME:EST
DTSTART:20221106T060000
END:STANDARD
BEGIN:DAYLIGHT
TZOFFSETFROM:-0500
TZOFFSETTO:-0400
TZNAME:EDT
DTSTART:20230312T070000
END:DAYLIGHT
BEGIN:STANDARD
TZOFFSETFROM:-0400
TZOFFSETTO:-0500
TZNAME:EST
DTSTART:20231105T060000
END:STANDARD
END:VTIMEZONE
BEGIN:VEVENT
DTSTART;TZID=America/New_York:20220202T120000
DTEND;TZID=America/New_York:20220202T230000
DTSTAMP:20260420T020928
CREATED:20220202T165916Z
LAST-MODIFIED:20220202T165959Z
UID:50175-1643803200-1643842800@spacepolicyonline.com
SUMMARY:NASA MEDIA TELECON WITH ARTEMIS I UPDATE\, Feb 2\, 2022\, virtual\, 12:00 pm ET
DESCRIPTION:NASA announced this morning that it will hold a media telecon at 12:00 pm ET to provide an update on the Artemis I mission.  Audio will be available on NASA Live. \nParticipants are: \n\nTom Whitmeyer\, deputy associate administrator for exploration systems development\, NASA Headquarters in Washington\nMike Bolger\, Exploration Ground Systems program manager\, Kennedy\nMike Sarafin\, Artemis I mission manager\, NASA Headquarters
URL:https://spacepolicyonline.com/events/nasa-media-telecon-with-artemis-i-update-feb-2-2022-virtual-1200-pm-et/
END:VEVENT
END:VCALENDAR