BEGIN:VCALENDAR
VERSION:2.0
PRODID:-//SpacePolicyOnline.com - ECPv6.15.11//NONSGML v1.0//EN
CALSCALE:GREGORIAN
METHOD:PUBLISH
X-WR-CALNAME:SpacePolicyOnline.com
X-ORIGINAL-URL:https://spacepolicyonline.com
X-WR-CALDESC:Events for SpacePolicyOnline.com
REFRESH-INTERVAL;VALUE=DURATION:PT1H
X-Robots-Tag:noindex
X-PUBLISHED-TTL:PT1H
BEGIN:VTIMEZONE
TZID:America/New_York
BEGIN:DAYLIGHT
TZOFFSETFROM:-0500
TZOFFSETTO:-0400
TZNAME:EDT
DTSTART:20220313T070000
END:DAYLIGHT
BEGIN:STANDARD
TZOFFSETFROM:-0400
TZOFFSETTO:-0500
TZNAME:EST
DTSTART:20221106T060000
END:STANDARD
BEGIN:DAYLIGHT
TZOFFSETFROM:-0500
TZOFFSETTO:-0400
TZNAME:EDT
DTSTART:20230312T070000
END:DAYLIGHT
BEGIN:STANDARD
TZOFFSETFROM:-0400
TZOFFSETTO:-0500
TZNAME:EST
DTSTART:20231105T060000
END:STANDARD
BEGIN:DAYLIGHT
TZOFFSETFROM:-0500
TZOFFSETTO:-0400
TZNAME:EDT
DTSTART:20240310T070000
END:DAYLIGHT
BEGIN:STANDARD
TZOFFSETFROM:-0400
TZOFFSETTO:-0500
TZNAME:EST
DTSTART:20241103T060000
END:STANDARD
END:VTIMEZONE
BEGIN:VEVENT
DTSTART;TZID=America/New_York:20230111T090000
DTEND;TZID=America/New_York:20230111T230000
DTSTAMP:20260422T172904
CREATED:20230110T191055Z
LAST-MODIFIED:20230110T191055Z
UID:59221-1673427600-1673478000@spacepolicyonline.com
SUMMARY:NASA MEDIA TELECON WITH UPDATE ON ISS AND SOYUZ MS-22\, Jan 11\, 2023\, virtual\, 9:00 am ET
DESCRIPTION:NASA will hold a media telecon on January 11\, 2023 at 9:00 am ET to provide an update on the International Space Station and decisions on what to do about the Soyuz MS-22 situation. \nSoyuz MS-22 suffered a coolant leak. Roscosmos and NASA teams have been studying whether it is safe to use to bring three crew members (two Russians and an American) back from the ISS or if a replacement spacecraft must be sent up. \nBriefing participants are: \n\nJoel Montalbano\, NASA ISS Program Manager\nSergei Krikalev\, Roscosmos Executive Director for Human Space Flight Programs\n\nAudio of the briefing will be livestreamed on NASA Live.
URL:https://spacepolicyonline.com/events/nasa-media-telecon-with-update-on-iss-and-soyuz-ms-22-jan-11-2023-virtual-900-am-et/
END:VEVENT
END:VCALENDAR